BEGIN:VCALENDAR
VERSION:2.0
PRODID:-//ChamberMaster//Event Calendar 2.0//EN
METHOD:PUBLISH
X-PUBLISHED-TTL:P3D
REFRESH-INTERVAL:P3D
CALSCALE:GREGORIAN
BEGIN:VEVENT
DTSTART:20150626T000000Z
DTEND:20150626T020000Z
X-MICROSOFT-CDO-ALLDAYEVENT:FALSE
SUMMARY:June Business after Business
DESCRIPTION:After work networking event\, no cost to attend. Bring lots of business cards and network with your fellow Chamber members and business professionals.\n\n \n\nHost: Open Connection (Telus)\, Nanaimo North Town Centre\n\n201 4750 Rutherford Road\n\nRight next Fairway Market inside the mall... park by Fairway.\n\n*Smokin' George's is providing the food.
X-ALT-DESC;FMTTYPE=text/html:<div style="color: gray"><span style="font-size:12px\;"><span style="font-family: arial\;"><span style="color: rgb(37\, 37\, 37)\;">After work networking event\, no cost to attend. Bring lots of business cards and network with your fellow Chamber members and business professionals.</span><br />\n<span _fck_bookmark="1" style="display: none\;">&nbsp\;</span><br />\n<span style="color:#000000\;"><strong>Host:</strong> Open Connection (Telus)\, </span></span></span><span style="color:#000000\;">Nanaimo North Town Centre<br />\n201 4750 Rutherford Road</span><br />\n<span style="color:#000000\;">Right next Fairway Market inside the mall... park by Fairway.<br />\n*Smokin&rsquo\; George&rsquo\;s is providing the food.</span></div>\n
LOCATION:Open Connection 201-4750 Rutherford Rd.
UID:e.1345.210
SEQUENCE:3
DTSTAMP:20260421T031141Z
URL:https://members.nanaimochamber.bc.ca/events/details/june-business-after-business-06-25-2015-210
END:VEVENT

END:VCALENDAR
