BEGIN:VCALENDAR
VERSION:2.0
PRODID:-//ChamberMaster//Event Calendar 2.0//EN
METHOD:PUBLISH
X-PUBLISHED-TTL:P3D
REFRESH-INTERVAL:P3D
CALSCALE:GREGORIAN
BEGIN:VEVENT
DTSTART;VALUE=DATE:20150715
DTEND;VALUE=DATE:20150716
TRANSP:TRANSPARENT
X-MICROSOFT-CDO-ALLDAYEVENT:TRUE
SUMMARY:July Membership Luncheon
DESCRIPTION:Membership Luncheon\n\nTime: Buffet lunch begins 11:30am\n\nWhere: Vancouver Island Conference Ctr\, 101 Gordon St.\n\nSpeaker:  Commander Darren Rich\, Commanding Officer\, Canadian Forces Maritime Experimental and Test Ranges (CFMETR)\n\nSponsor: Nanaimo Child Development Centre\n\nCost: Members: $34.00 (+ GST)\; Non-Members: $50.00 (+ GST)\n\nPlease Note: Pre-payment and Reservations required. Refunds will be issued with 48 hours notice.\n\n\n\nCancellation Policy\n\nThe Greater Nanaimo Chamber of Commerce maintains a 48 hour minimum (2 business days) cancellation policy for all Chamber events. Cancellations made with less than 48 hours' notice are not eligible for a refund.  Unpaid registrations will be invoiced. This includes any function for which a charge is made. If you are unable to attend an event for which you have registered\, consider offering your spot to a colleague\, staff member or customer as a gift. There is no additional charge to transfer your registration to someone else. Simply notify the Chamber by calling 250-756-1191.\n\nThank you for your cooperation.
X-ALT-DESC;FMTTYPE=text/html:<div style="color: gray"><span style="font-size: 12px"><span style="font-family: arial"><span style="color: #2891d6"><b>Membership Luncheon</b></span></span></span><br />\n<span style="color:#000000\;"><strong>Time: </strong>Buffet lunch begins 11:30am<br />\n<strong>Where: </strong>Vancouver Island Conference Ctr\, 101 Gordon St.<br />\n<strong>Speaker:&nbsp\; </strong>Commander Darren Rich\, Commanding Officer\, Canadian Forces Maritime Experimental and Test Ranges (CFMETR)</span><br />\n<span style="color:#000000\;"><strong>Sponsor:</strong> Nanaimo Child Development Centre</span><br />\n<span style="color:#000000\;"><strong>Cost:&nbsp\;</strong>Members:<strong>&nbsp\;</strong>$34.00 (+ GST)\; Non-Members: $50.00&nbsp\;(+ GST)<br />\n<em><strong>Please Note: Pre-payment and Reservations required. Refunds will be issued with 48 hours notice.</strong></em><br />\n<br />\n<strong>Cancellation Policy</strong><br />\nThe Greater Nanaimo Chamber of Commerce maintains a 48 hour minimum (2 business days) cancellation policy for all Chamber events. Cancellations made with less than 48 hours&rsquo\; notice are not eligible for a refund.&nbsp\; Unpaid registrations will be invoiced. This includes any function for which a charge is made. If you are unable to attend an event for which you have registered\, consider offering your spot to a colleague\, staff member or customer as a gift. There is no additional charge to transfer your registration to someone else. Simply notify the Chamber by calling 250-756-1191.<br />\nThank you for your cooperation.</span></div>\n
LOCATION:Vancouver Island Conference Ctr. 101 Gordon St.
UID:e.1345.211
SEQUENCE:3
DTSTAMP:20260421T012900Z
URL:https://members.nanaimochamber.bc.ca/events/details/july-membership-luncheon-07-15-2015-211
END:VEVENT

END:VCALENDAR
