BEGIN:VCALENDAR
VERSION:2.0
PRODID:-//ChamberMaster//Event Calendar 2.0//EN
METHOD:PUBLISH
X-PUBLISHED-TTL:P3D
REFRESH-INTERVAL:P3D
CALSCALE:GREGORIAN
BEGIN:VEVENT
DTSTART:20120711T183000Z
DTEND:20120711T200000Z
X-MICROSOFT-CDO-ALLDAYEVENT:FALSE
SUMMARY:July Membership Luncheon
DESCRIPTION:Membership Luncheon\n\n	Time: Buffet lunch begins 11:30am\n\n	Where: Nanaimo Golf Club\n\n	Speaker: Media Relations Panel\n\n	\n\n	Media Panel:\n\n	Cale Cowan\, Nanaimo Daily News\n\n	Bruce Williams\, CTV Vancouver Island\n\n	Rob Bye\, Island Radio\, The WAVE/WOLF\n\n	\n\n	A discussion on how non-profit organizations and small business can get their message out in the traditional media. How do you get publicity for your business? How to approach journalists so they respond to your message? Who to contact? How to best contact the media?\n\n	\n\n	Sponsor: TBA\n\n	Cost: Members: $31.25 (+ HST)\; Non-Members: $45.00 (+ HST)\n\n	Please Note: Pre-payment and Reservations required. Refunds will be issued with 24 hours notice.
X-ALT-DESC;FMTTYPE=text/html:<div style="color: gray">\n	<span style="font-size: 12px"><span style="font-family: arial"><span style="color: #2891d6"><b>Membership Luncheon</b></span></span></span><br />\n	<strong>Time: </strong>Buffet lunch begins 11:30am<br />\n	<strong>Where: </strong>Nanaimo&nbsp\;Golf Club<br />\n	<strong>Speaker: </strong>Media Relations Panel<br />\n	<br />\n	Media Panel:<br />\n	Cale Cowan\, Nanaimo Daily News<br />\n	Bruce Williams\, CTV Vancouver Island<br />\n	Rob Bye\, Island Radio\, The WAVE/WOLF<br />\n	<br />\n	<em>A discussion on how non-profit organizations and small business can get their message out in the traditional media. How do you get publicity for your business? How to approach journalists so they respond to your message? Who to contact? How to best contact the media?</em><br />\n	<br />\n	<strong>Sponsor:&nbsp\;</strong>TBA<br />\n	<strong>Cost:&nbsp\;</strong>Members:<strong>&nbsp\;</strong>$31.25 (+ HST)\; Non-Members: $45.00&nbsp\;(+ HST)<br />\n	<em><strong>Please Note: Pre-payment and Reservations required. Refunds will be issued with 24 hours notice.</strong></em></div>\n
LOCATION:Nanaimo Golf Club 2800 Highland Blvd
UID:e.1345.24
SEQUENCE:3
DTSTAMP:20260423T133534Z
URL:https://members.nanaimochamber.bc.ca/events/details/july-membership-luncheon-07-11-2012-24
END:VEVENT

END:VCALENDAR
