BEGIN:VCALENDAR
VERSION:2.0
PRODID:-//ChamberMaster//Event Calendar 2.0//EN
METHOD:PUBLISH
X-PUBLISHED-TTL:P3D
REFRESH-INTERVAL:P3D
CALSCALE:GREGORIAN
BEGIN:VEVENT
DTSTART;VALUE=DATE:20130710
DTEND;VALUE=DATE:20130711
TRANSP:TRANSPARENT
X-MICROSOFT-CDO-ALLDAYEVENT:TRUE
SUMMARY:July Membership Luncheon
DESCRIPTION:Membership Luncheon\n\n	Time: Buffet lunch begins 11:30am\n\n	Where: Coast Bastion Inn\, 11 Bastion St.\n\n	Speaker: Paul Sinkevich\, President\, Dale Carnegie Training of British Columbia\n\n	Sponsor: Nanaimo Child Development Centre\n\n	Cost: Members: $33.48 (+ GST)\; Non-Members: $50.00 (+ GST)\n\n	Please Note: Pre-payment and Reservations required. Refunds will be issued with 24 hours notice.
X-ALT-DESC;FMTTYPE=text/html:<div style="color: gray">\n	<span style="font-size: 12px"><span style="font-family: arial"><span style="color: #2891d6"><b>Membership Luncheon</b></span></span></span><br />\n	<span style="color:#000000\;"><strong>Time: </strong>Buffet lunch begins 11:30am<br />\n	<strong>Where: </strong>Coast Bastion Inn\, 11 Bastion St.<br />\n	<strong>Speaker: </strong>Paul Sinkevich\, President\, Dale Carnegie Training of British Columbia</span><br />\n	<span style="color:#000000\;"><strong>Sponsor: </strong>Nanaimo Child Development Centre<br />\n	<strong>Cost:&nbsp\;</strong>Members:<strong>&nbsp\;</strong>$33.48 (+ GST)\; Non-Members: $50.00&nbsp\;(+ GST)<br />\n	<em><strong>Please Note: Pre-payment and Reservations required. Refunds will be issued with 24 hours notice.</strong></em></span></div>\n
LOCATION:Coast Bastion Inn 11 Bastion St.
UID:e.1345.87
SEQUENCE:3
DTSTAMP:20260422T193828Z
URL:https://members.nanaimochamber.bc.ca/events/details/july-membership-luncheon-07-10-2013-87
END:VEVENT

END:VCALENDAR
