BEGIN:VCALENDAR
VERSION:2.0
PRODID:-//ChamberMaster//Event Calendar 2.0//EN
METHOD:PUBLISH
X-PUBLISHED-TTL:P3D
REFRESH-INTERVAL:P3D
CALSCALE:GREGORIAN
BEGIN:VEVENT
DTSTART:20140716T143000Z
DTEND:20140716T153000Z
X-MICROSOFT-CDO-ALLDAYEVENT:FALSE
SUMMARY:July Business before Business
DESCRIPTION:Morning networking event\, no cost to attend. Bring lots of business cards and network with your fellow Chamber members and business professionals.\n\n	\n\n	Where:  Berwick on the Lake\, 3201 Ross Rd.
X-ALT-DESC;FMTTYPE=text/html:<div style="color: gray">\n	<span style="color:#000000\;">Morning networking event\, no cost to attend. Bring lots of business cards and network with your fellow Chamber members and business professionals.<br />\n	<br />\n	<strong>Where:</strong>&nbsp\; Berwick on the Lake\, 3201 Ross Rd.</span></div>\n
LOCATION:Berwick on the Lake 3201 Ross Rd.
UID:e.1345.132
SEQUENCE:3
DTSTAMP:20260421T211457Z
URL:https://members.nanaimochamber.bc.ca/events/details/july-business-before-business-07-16-2014-132
END:VEVENT

END:VCALENDAR
