BEGIN:VCALENDAR
VERSION:2.0
PRODID:-//ChamberMaster//Event Calendar 2.0//EN
METHOD:PUBLISH
X-PUBLISHED-TTL:P3D
REFRESH-INTERVAL:P3D
CALSCALE:GREGORIAN
BEGIN:VEVENT
DTSTART:20150731T000000Z
DTEND:20150731T020000Z
X-MICROSOFT-CDO-ALLDAYEVENT:FALSE
SUMMARY:July Business after Business
DESCRIPTION:After work networking event\, no cost to attend. Bring lots of business cards and network with your fellow Chamber members and business professionals.\n\n \n\nWhere: Sands Funeral Chapels\, 1 Newcastle Ave.
X-ALT-DESC;FMTTYPE=text/html:<div style="color: gray"><span style="color:#000000\;"><span style="font-size: 9pt\;"><span style="font-family: arial\,sans-serif\;">After work networking event\, no cost to attend. Bring lots of business cards and network with your fellow Chamber members and business professionals.</span></span><br />\n<span _fck_bookmark="1" style="display: none\;"><span style="background-color: rgb(0\, 0\, 0)\;">&nbsp\;</span></span><br />\n<strong>Where:</strong> Sands Funeral Chapels\, 1 Newcastle Ave.</span></div>\n
LOCATION:Sands Funeral Chapel 1 Newcastle Ave.
UID:e.1345.213
SEQUENCE:3
DTSTAMP:20260421T013106Z
URL:https://members.nanaimochamber.bc.ca/events/details/july-business-after-business-07-30-2015-213
END:VEVENT

END:VCALENDAR
