BEGIN:VCALENDAR
VERSION:2.0
PRODID:-//ChamberMaster//Event Calendar 2.0//EN
METHOD:PUBLISH
X-PUBLISHED-TTL:P3D
REFRESH-INTERVAL:P3D
CALSCALE:GREGORIAN
BEGIN:VEVENT
DTSTART:20120727T000000Z
DTEND:20120727T020000Z
X-MICROSOFT-CDO-ALLDAYEVENT:FALSE
SUMMARY:July Business after Business
DESCRIPTION:After work networking event\, no cost to attend. Bring lots of business cards and network with your fellow Chamber members and business professionals.\n\n	 \n\n	Where: Splitsville Entertainment\, 171 Calder Rd.
X-ALT-DESC;FMTTYPE=text/html:<div style="color: gray">\n	<span style="font-size: 9pt"><span style="color: #252525"><span style="font-family: arial\, sans-serif">After work networking event\, no cost to attend. Bring lots of business cards and network with your fellow Chamber members and business professionals.</span></span></span><br />\n	<span _fck_bookmark="1" style="display: none">&nbsp\;</span><br />\n	<span style="color: #000000"><strong>Where:</strong>&nbsp\;Splitsville Entertainment\, 171 Calder&nbsp\;Rd.</span></div>\n
LOCATION:Splitsville Entertainment 171 Calder Rd.
UID:e.1345.29
SEQUENCE:3
DTSTAMP:20260423T134111Z
URL:https://members.nanaimochamber.bc.ca/events/details/july-business-after-business-07-26-2012-29
END:VEVENT

END:VCALENDAR
