BEGIN:VCALENDAR
VERSION:2.0
PRODID:-//ChamberMaster//Event Calendar 2.0//EN
METHOD:PUBLISH
X-PUBLISHED-TTL:P3D
REFRESH-INTERVAL:P3D
CALSCALE:GREGORIAN
BEGIN:VEVENT
DTSTART:20140725T000000Z
DTEND:20140725T020000Z
X-MICROSOFT-CDO-ALLDAYEVENT:FALSE
SUMMARY:July Business after Business
DESCRIPTION:After work networking event\, no cost to attend. Bring lots of business cards and network with your fellow Chamber members and business professionals.\n\n \n\nWhere: The Soakhouse\, 102-2520 Bowen Rd.
X-ALT-DESC;FMTTYPE=text/html:<div style="color: gray"><span style="font-size: 9pt"><span style="color: #252525"><span style="font-family: arial\, sans-serif">After work networking event\, no cost to attend. Bring lots of business cards and network with your fellow Chamber members and business professionals.</span></span></span><br />\n<span _fck_bookmark="1" style="display: none">&nbsp\;</span><br />\n<span style="color: #000000"><strong>Where:</strong> The Soakhouse\, </span><span style="color:black\;"><span style="font-family:arial\,sans-serif\;"><span style="font-size:10.0pt\;">102-2520 Bowen Rd.</span></span></span></div>\n
LOCATION:The Soakhouse 102-2520 Bowen Rd.
UID:e.1345.133
SEQUENCE:3
DTSTAMP:20260421T211030Z
URL:https://members.nanaimochamber.bc.ca/events/details/july-business-after-business-07-24-2014-133
END:VEVENT

END:VCALENDAR
