BEGIN:VCALENDAR
VERSION:2.0
PRODID:-//ChamberMaster//Event Calendar 2.0//EN
METHOD:PUBLISH
X-PUBLISHED-TTL:P3D
REFRESH-INTERVAL:P3D
CALSCALE:GREGORIAN
BEGIN:VEVENT
DTSTART:20130116T193000Z
DTEND:20130116T210000Z
X-MICROSOFT-CDO-ALLDAYEVENT:FALSE
SUMMARY:January Membership Luncheon
DESCRIPTION:Membership Luncheon\n\n	Time: Buffet lunch begins 11:30am\n\n	Where: The Grand Hotel\n\n	Speaker: Kevin Evans\, Industry Training Authority\n\n	Sponsor: Nanaimo Clippers\n\n	Cost: Members: $33.48 (+ HST)\; Non-Members: $50.00 (+ HST)\n\n	Please Note: Pre-payment and Reservations required. Refunds will be issued with 24 hours notice.
X-ALT-DESC;FMTTYPE=text/html:<div style="color: gray">\n	<span style="font-size: 12px"><span style="font-family: arial"><span style="color: #2891d6"><b>Membership Luncheon</b></span></span></span><br />\n	<strong>Time: </strong>Buffet lunch begins 11:30am<br />\n	<strong>Where: </strong>The Grand Hotel<br />\n	<strong>Speaker: </strong>Kevin Evans\, Industry Training Authority<br />\n	<strong>Sponsor: </strong>Nanaimo Clippers<br />\n	<strong>Cost:&nbsp\;</strong>Members:<strong>&nbsp\;</strong>$33.48 (+ HST)\; Non-Members: $50.00&nbsp\;(+ HST)<br />\n	<em><strong>Please Note: Pre-payment and Reservations required. Refunds will be issued with 24 hours notice.</strong></em></div>\n
LOCATION:The Grand Hotel 4898 Rutherford Rd.
UID:e.1345.55
SEQUENCE:3
DTSTAMP:20260423T041202Z
URL:https://members.nanaimochamber.bc.ca/events/details/january-membership-luncheon-01-16-2013-55
END:VEVENT

END:VCALENDAR
