BEGIN:VCALENDAR
VERSION:2.0
PRODID:-//ChamberMaster//Event Calendar 2.0//EN
METHOD:PUBLISH
X-PUBLISHED-TTL:P3D
REFRESH-INTERVAL:P3D
CALSCALE:GREGORIAN
BEGIN:VEVENT
DTSTART:20150115T193000Z
DTEND:20150115T210000Z
X-MICROSOFT-CDO-ALLDAYEVENT:FALSE
SUMMARY:January Membership Luncheon
DESCRIPTION:Membership Luncheon\n\nTime: Buffet lunch begins 11:30 am\n\nWhere: The Coast Bastion Hotel\n\nSpeaker: Dr. James Lunney\n\nSponsor: Nanaimo Daily News\n\nCost: Members: $34.00 (+GST)\; Non-members: $50.00 (+GST)\n\n\n\nPlease note the date change - Thursday\, January 15.\n\n\n\nPlease Note: Pre-payment and Reservations required. Refunds will be issued with 24 hours notice.\n\n\n\nCancellation Policy\n\nThe Greater Nanaimo Chamber of Commerce maintains a 48 hour minimum (2 business days) cancellation policy for all Chamber events. Cancellations made with less than 48 hours? notice are not eligible for a refund.  Unpaid registrations will be invoiced. This includes any function for which a charge is made. If you are unable to attend an event for which you have registered\, consider offering your spot to a colleague\, staff member or customer as a gift. There is no additional charge to transfer your registration to someone else. Simply notify the Chamber by calling 250-756-1191.\n\nThank you for your cooperation.
X-ALT-DESC;FMTTYPE=text/html:<div style="color: gray"><span style="font-size: 12px"><span style="font-family: arial"><span style="color: #2891d6"><b>Membership Luncheon</b></span></span></span><br />\n<span style="color:#000000\;"><strong>Time: </strong>Buffet lunch <span style="font-size: 12px\;"><span style="font-family: arial\;">begins</span></span> 11:30 am<br />\n<strong>Where: </strong>The Coast Bastion Hotel<br />\n<strong>Speaker: </strong>Dr. James Lunney</span><br />\n<span style="color:#000000\;"><strong>Sponsor:</strong> Nanaimo Daily News</span><br />\n<span style="color:#000000\;"><strong>Cost:</strong> Members: $34.00 (+GST)\; Non-members: $50.00 (+GST)<br />\n<br />\n<strong>Please note the date change</strong> - Thursday\, January 15.<br />\n<br />\n<em><strong>Please Note: Pre-payment and Reservations required. Refunds will be issued with 24 hours notice.</strong></em><br />\n<br />\n<strong>Cancellation Policy</strong><br />\nThe Greater Nanaimo Chamber of Commerce maintains a 48 hour minimum (2 business days) cancellation policy for all Chamber events. Cancellations made with less than 48 hours? notice are not eligible for a refund.&nbsp\; Unpaid registrations will be invoiced. This includes any function for which a charge is made. If you are unable to attend an event for which you have registered\, consider offering your spot to a colleague\, staff member or customer as a gift. There is no additional charge to transfer your registration to someone else. Simply notify the Chamber by calling 250-756-1191.<br />\nThank you for your cooperation.</span></div>\n
LOCATION:Coast Bastion Hotel 11 Bastion St.
UID:e.1345.185
SEQUENCE:3
DTSTAMP:20260421T124822Z
URL:https://members.nanaimochamber.bc.ca/events/details/january-membership-luncheon-01-15-2015-185
END:VEVENT

END:VCALENDAR
