BEGIN:VCALENDAR
VERSION:2.0
PRODID:-//ChamberMaster//Event Calendar 2.0//EN
METHOD:PUBLISH
X-PUBLISHED-TTL:P3D
REFRESH-INTERVAL:P3D
CALSCALE:GREGORIAN
BEGIN:VEVENT
DTSTART:20140115T193000Z
DTEND:20140115T210000Z
X-MICROSOFT-CDO-ALLDAYEVENT:FALSE
SUMMARY:January Membership Luncheon
DESCRIPTION:Membership Luncheon\n\n	Time: Buffet lunch begins 11:30 am\n\n	Where: The Coast Bastion Hotel\n\n	Speaker: Ted Swabey\, City Manager\, City of Nanaimo\n\n	Sponsor: City of Nanaimo\n\n	Cost: Members: $34.00 (+GST)\; Non-members: $50.00 (+GST)\n\n	\n\n	Cost: Members: $34.00 (+ GST)\; Non-Members: $50.00 (+ GST)\n\n	Please Note: Pre-payment and Reservations required. Refunds will be issued with 24 hours notice.
X-ALT-DESC;FMTTYPE=text/html:<div style="color: gray">\n	<span style="font-size: 12px"><span style="font-family: arial"><span style="color: #2891d6"><b>Membership Luncheon</b></span></span></span><br />\n	<span style="color:#000000\;"><strong>Time: </strong>Buffet lunch <span style="font-size: 12px\;"><span style="font-family: arial\;">begins</span></span> 11:30 am<br />\n	<strong>Where: </strong>The Coast Bastion Hotel<br />\n	<strong>Speaker: </strong>Ted Swabey\, City Manager\, City of Nanaimo</span><br />\n	<span style="color:#000000\;"><strong>Sponsor: </strong>City of Nanaimo<br />\n	<strong>Cost:</strong> Members: $34.00 (+GST)\; Non-members: $50.00 (+GST)<br />\n	<br />\n	<strong>Cost:&nbsp\;</strong>Members:<strong>&nbsp\;</strong>$34.00 (+ GST)\; Non-Members: $50.00&nbsp\;(+ GST)<br />\n	<em><strong>Please Note: Pre-payment and Reservations required. Refunds will be issued with 24 hours notice.</strong></em></span></div>\n
LOCATION:Coast Bastion Hotel 11 Bastion St.
UID:e.1345.110
SEQUENCE:3
DTSTAMP:20260422T074323Z
URL:https://members.nanaimochamber.bc.ca/events/details/january-membership-luncheon-01-15-2014-110
END:VEVENT

END:VCALENDAR
