BEGIN:VCALENDAR
VERSION:2.0
PRODID:-//ChamberMaster//Event Calendar 2.0//EN
METHOD:PUBLISH
X-PUBLISHED-TTL:P3D
REFRESH-INTERVAL:P3D
CALSCALE:GREGORIAN
BEGIN:VEVENT
DTSTART:20120111T193000Z
DTEND:20120111T213000Z
X-MICROSOFT-CDO-ALLDAYEVENT:FALSE
SUMMARY:January Chamber Luncheon
DESCRIPTION:Membership Luncheon\n\n	Time: Buffet lunch begins 11:30am\n\n	Where: Grand Hotel\, 4898 Rutherford Rd.\n\n	Speaker: Joe Murphy\, VP Operations & Support Services\, VIHA\n\n	Sponsor: Boutiquemac\n\n	Cost: Members: $31.25\; Non Members: $45.00 (+ HST)\n\n	Please Note: Pre-payment and Reservations required. Refunds will be issued with 24 hours notice.
X-ALT-DESC;FMTTYPE=text/html:<div>\n	<span style="color: #2891d6\;"><b><span style="font-size: 10pt\;">Membership Luncheon</span></b></span><br />\n	<b>Time</b>: Buffet lunch begins 11:30am<br />\n	<b>Where:</b> Grand Hotel\, 4898 Rutherford Rd.</div>\n<div>\n	<b>Speaker:</b> Joe Murphy\, VP Operations &amp\; Support Services\, VIHA</div>\n<div>\n	<b>Sponsor:</b> Boutiquemac</div>\n<div>\n	<b>Cost:</b> Members: $31.25\; Non Members: $45.00 (+ HST)<br />\n	<b><i>Please Note: Pre-payment and Reservations required. Refunds will be issued with 24 hours notice.</i></b></div>\n
LOCATION:Grand Hotel\, 4898 Rutherford Rd.
UID:e.1345.3
SEQUENCE:3
DTSTAMP:20260423T221810Z
URL:https://members.nanaimochamber.bc.ca/events/details/january-chamber-luncheon-01-11-2012-3
END:VEVENT

END:VCALENDAR
