BEGIN:VCALENDAR
VERSION:2.0
PRODID:-//ChamberMaster//Event Calendar 2.0//EN
METHOD:PUBLISH
X-PUBLISHED-TTL:P3D
REFRESH-INTERVAL:P3D
CALSCALE:GREGORIAN
BEGIN:VEVENT
DTSTART:20130123T153000Z
DTEND:20130123T163000Z
X-MICROSOFT-CDO-ALLDAYEVENT:FALSE
SUMMARY:January Business before Business
DESCRIPTION:Morning networking event\, no cost to attend. Bring lots of business cards and network with your fellow Chamber members and business professionals.\n\n\n\nWhere: Nanaimo Clippers\, 1-2290 Bowen Rd.
X-ALT-DESC;FMTTYPE=text/html:Morning networking event\, no cost to attend. Bring lots of business cards and network with your fellow Chamber members and business professionals.<br />\n<br />\n<strong>Where:</strong> Nanaimo Clippers\, 1-2290 Bowen Rd.
LOCATION:Nanaimo Clippers\, 1-2290 Bowen Rd.
UID:e.1345.56
SEQUENCE:3
DTSTAMP:20260423T060120Z
URL:https://members.nanaimochamber.bc.ca/events/details/january-business-before-business-01-23-2013-56
END:VEVENT

END:VCALENDAR
