BEGIN:VCALENDAR
VERSION:2.0
PRODID:-//ChamberMaster//Event Calendar 2.0//EN
METHOD:PUBLISH
X-PUBLISHED-TTL:P3D
REFRESH-INTERVAL:P3D
CALSCALE:GREGORIAN
BEGIN:VEVENT
DTSTART:20140122T153000Z
DTEND:20140122T163000Z
X-MICROSOFT-CDO-ALLDAYEVENT:FALSE
SUMMARY:January Business before Business
DESCRIPTION:Morning networking event\, no cost to attend. Bring lots of business cards and network with your fellow Chamber members and business professionals.\n\n\n\nHost: Supporting Employment Transitions (SET)\, 101-155 Skinner St.\, \n\n\n\n\n\n\n\nThe Greater Nanaimo Chamber of Commerce seeks to become more engaged as a socially responsible organization and is encouraging our members to bring a donation/food item for the Community Food Bank to help others less fortunate.
X-ALT-DESC;FMTTYPE=text/html:Morning networking event\, no cost to attend. Bring lots of business cards and network with your fellow Chamber members and business professionals.<br />\n<br />\n<span style="font-size:12px\;"><span style="font-family: arial\;"><strong>Host:</strong> <span><span><span style="color: black\;"><span style="font-family: calibri\;">Supporting Employment Transitions </span></span></span></span><span><span style="color: black\;"><span style="font-family: calibri\;">(SET)\, </span></span><span style="font-size:10px\;"><span style="color: black\;"><span style="font-family: calibri\;">101-155 Skinner St.\, </span></span></span></span></span></span><br />\n<br />\n<br />\n<br />\n<em>The Greater Nanaimo Chamber of Commerce seeks to become more engaged as a socially responsible organization and is encouraging our members to bring a donation/food item for the Community Food Bank to help others less fortunate</em><span style="font-size:12px\;"><span style="font-family: arial\;">.</span></span>
LOCATION:Supporting Employment Transitions (SET) 101-155 Skinner St.\,
UID:e.1345.111
SEQUENCE:3
DTSTAMP:20260422T093206Z
URL:https://members.nanaimochamber.bc.ca/events/details/january-business-before-business-01-22-2014-111
END:VEVENT

END:VCALENDAR
