BEGIN:VCALENDAR
VERSION:2.0
PRODID:-//ChamberMaster//Event Calendar 2.0//EN
METHOD:PUBLISH
X-PUBLISHED-TTL:P3D
REFRESH-INTERVAL:P3D
CALSCALE:GREGORIAN
BEGIN:VEVENT
DTSTART:20150121T153000Z
DTEND:20150121T163000Z
X-MICROSOFT-CDO-ALLDAYEVENT:FALSE
SUMMARY:January Business before Business
DESCRIPTION:Morning networking event\, no cost to attend. Bring lots of business cards and network with your fellow Chamber members and business professionals.\n\n\n\nHost: Academy of Learning\, 7-1551 Estevan Rd.\n\n\n\nThe Greater Nanaimo Chamber of Commerce seeks to become more engaged as a socially responsible organization and is encouraging our members to bring a donation/food item for the Community Food Bank to help others less fortunate.
X-ALT-DESC;FMTTYPE=text/html:Morning networking event\, no cost to attend. Bring lots of business cards and network with your fellow Chamber members and business professionals.<br />\n<br />\n<span style="font-size:12px\;"><span style="font-family: arial\;"><strong>Host:</strong> Academy of Learning\, 7-1551 Estevan Rd.</span></span><br />\n<br />\n<em>The Greater Nanaimo Chamber of Commerce seeks to become more engaged as a socially responsible organization and is encouraging our members to bring a donation/food item for the Community Food Bank to help others less fortunate</em><span style="font-size:12px\;"><span style="font-family: arial\;">.</span></span>
LOCATION:Academy of Learning 7-1551 Estevan Rd.
UID:e.1345.184
SEQUENCE:3
DTSTAMP:20260421T112332Z
URL:https://members.nanaimochamber.bc.ca/events/details/january-business-before-business-01-21-2015-184
END:VEVENT

END:VCALENDAR
