BEGIN:VCALENDAR
VERSION:2.0
PRODID:-//ChamberMaster//Event Calendar 2.0//EN
METHOD:PUBLISH
X-PUBLISHED-TTL:P3D
REFRESH-INTERVAL:P3D
CALSCALE:GREGORIAN
BEGIN:VEVENT
DTSTART:20130201T010000Z
DTEND:20130201T030000Z
X-MICROSOFT-CDO-ALLDAYEVENT:FALSE
SUMMARY:January Business after Business
DESCRIPTION:After work networking event\, no cost to attend. Bring lots of business cards and network with your fellow Chamber members and business professionals.\n\n\n\nWhere: Island Daily Deals\, 29 Commercial St.\n\n\n\nIsland Daily Deals is pleased to be hosting the first Business after Business of the New Year!  As the largest locally owned Group Website across Vancouver Island we have recently opened a new location and hired new team members in Downtown Nanaimo and invite you to come and enjoy a great night with positive networking. You will be entered to win a $50 Island Daily Deals gift certificate towards all our great deals!
X-ALT-DESC;FMTTYPE=text/html:<span style="font-size: 9pt"><span style="color: #252525"><span style="font-family: arial\, sans-serif">After work networking event\, no cost to attend. Bring lots of business cards and network with your fellow Chamber members and business professionals.</span></span></span><br />\n<br />\n<span style="color: #000000"><strong>Where: </strong>Island Daily Deals\, 29 Commercial St.</span><br />\n<br />\nIsland Daily Deals is pleased to be hosting the first Business after Business of the New Year!&nbsp\; As the largest locally owned Group Website across Vancouver Island we have recently opened a new location and hired new team members in Downtown Nanaimo and invite you to come and enjoy a great night with positive networking. You will be entered to win a $50 Island Daily Deals gift certificate towards all our great deals!
LOCATION:29 Commercial St.
UID:e.1345.54
SEQUENCE:3
DTSTAMP:20260423T042317Z
URL:https://members.nanaimochamber.bc.ca/events/details/january-business-after-business-01-31-2013-54
END:VEVENT

END:VCALENDAR
