BEGIN:VCALENDAR
VERSION:2.0
PRODID:-//ChamberMaster//Event Calendar 2.0//EN
METHOD:PUBLISH
X-PUBLISHED-TTL:P3D
REFRESH-INTERVAL:P3D
CALSCALE:GREGORIAN
BEGIN:VEVENT
DTSTART:20140131T010000Z
DTEND:20140131T030000Z
X-MICROSOFT-CDO-ALLDAYEVENT:FALSE
SUMMARY:January Business after Business
DESCRIPTION:After work networking event\, no cost to attend. Bring lots of business cards and network with your fellow Chamber members and business professionals.\n\n\n\nHost:  West Coast Shutters-Blinds-Closets\, 3-4341 Boban Dr.\n\n\n\n\n\n\n\nThe Greater Nanaimo Chamber of Commerce seeks to become more engaged as a socially responsible organization and is encouraging our members to bring a donation/food item for the Community Food Bank to help others less fortunate.
X-ALT-DESC;FMTTYPE=text/html:<span style="font-size: 9pt"><span style="color: #252525"><span style="font-family: arial\, sans-serif">After work networking event\, no cost to attend. Bring lots of business cards and network with your fellow Chamber members and business professionals.</span></span></span><br />\n<br />\n<span style="color: #000000"><strong>Host:&nbsp\; </strong>West Coast Shutters-Blinds-Closets\, 3-4341 Boban Dr.</span><br />\n<br />\n<br />\n<br />\n<em>The Greater Nanaimo Chamber of Commerce seeks to become more engaged as a socially responsible organization and is encouraging our members to bring a donation/food item for the Community Food Bank to help others less fortunate.</em>
LOCATION:West Coast Shutters-Blinds-Closets 3 - 4341 Boban Drive
UID:e.1345.112
SEQUENCE:3
DTSTAMP:20260422T074623Z
URL:https://members.nanaimochamber.bc.ca/events/details/january-business-after-business-01-30-2014-112
END:VEVENT

END:VCALENDAR
