BEGIN:VCALENDAR
VERSION:2.0
PRODID:-//ChamberMaster//Event Calendar 2.0//EN
METHOD:PUBLISH
X-PUBLISHED-TTL:P3D
REFRESH-INTERVAL:P3D
CALSCALE:GREGORIAN
BEGIN:VEVENT
DTSTART:20161005T143000Z
DTEND:20161005T153000Z
X-MICROSOFT-CDO-ALLDAYEVENT:FALSE
SUMMARY:How to Build a Better Trade Show Booth - free workshop for Business Expo Exhibitors
DESCRIPTION:"How to make the best out of your Trade Show Booth for Business Expo" \n\n Wednesday\, October 5th\, 2016\n\n\n\nIf you have booked a booth at the Chamber of Commerce Business Expo on Thursday\, October 20th at Vancouver Island Conference Centre then join us in a free informational talk about "How to make the best out of your Trade show booth". Gina will walk you through the do's and don't's of booth displays and give you lots of TIPs!\n\n\n\nGina Bethell has recently joined the team at The Vancouver Island Conference Centre as the new Sales Manager. With a Bachelor of Tourism Management from Vancouver Island University\, she has spent the last few years working in the tourism/meeting industry in Northern Canada.  Prior to joining the Vancouver Island Conference Centre\, she worked as a Sales Manager at the Yukon Convention Bureau in Whitehorse\, Yukon promoting the Yukon as a conference/meeting destination.  In her time with the Yukon Convention Bureau\, Gina had the opportunity to attend Trade Shows across Canada and into the USA.  She has seen what works and what doesn't work while exhibiting at a Trade Show and how to make the best out of your experience working a Trade Show Booth.
X-ALT-DESC;FMTTYPE=text/html:<strong style="color: rgb(51\, 51\, 51)\; font-family: sans-serif\, Arial\, Verdana\, &quot\;Trebuchet MS&quot\;\; font-size: 13px\;">&ldquo\;How to make the best out of your Trade Show Booth for Business Expo&quot\;&nbsp\;</strong><br style="color: rgb(51\, 51\, 51)\; font-family: sans-serif\, Arial\, Verdana\, &quot\;Trebuchet MS&quot\;\; font-size: 13px\;" />\n<span style="color: rgb(51\, 51\, 51)\; font-family: sans-serif\, Arial\, Verdana\, &quot\;Trebuchet MS&quot\;\; font-size: 13px\; background-color: rgb(255\, 255\, 255)\;">&nbsp\;</span><strong>Wednesday\, October 5<sup>th</sup>\, 2016</strong><br />\n<br />\n<span style="font-family:calibri\,sans-serif\;"><span style="font-size:11.0pt\;">If you have booked a booth at the Chamber of Commerce Business Expo on Thursday\, October 20<sup>th</sup> at Vancouver Island Conference Centre then join us in a free informational talk about &ldquo\;How to make the best out of your Trade show booth&rdquo\;. Gina will walk you through the do&rsquo\;s and don&rsquo\;t&rsquo\;s of booth displays and give you lots of TIPs!</span></span><br />\n<br />\nGina Bethell has recently joined the team at The Vancouver Island Conference Centre as the new Sales Manager. With a Bachelor of Tourism Management from Vancouver Island University\, she has spent the last few years working in the tourism/meeting industry in Northern Canada.&nbsp\; Prior to joining the Vancouver Island Conference Centre\, she worked as a Sales Manager at the Yukon Convention Bureau in Whitehorse\, Yukon promoting the Yukon as a conference/meeting destination.&nbsp\; In her time with the Yukon Convention Bureau\, Gina had the opportunity to attend Trade Shows across Canada and into the USA.&nbsp\; She has seen what works and what doesn&rsquo\;t work while exhibiting at a Trade Show and how to make the best out of your experience working a Trade Show Booth.<br />\n<br />\n<br />\n<br />\n&nbsp\;
LOCATION:Chamber of Commerce Staples Room 2133 Bowen Rd Parking in the back
UID:e.1345.482
SEQUENCE:3
DTSTAMP:20260420T015917Z
URL:https://members.nanaimochamber.bc.ca/events/details/how-to-build-a-better-trade-show-booth-free-workshop-for-business-expo-exhibitors-482
END:VEVENT

END:VCALENDAR
