BEGIN:VCALENDAR
VERSION:2.0
PRODID:-//ChamberMaster//Event Calendar 2.0//EN
METHOD:PUBLISH
X-PUBLISHED-TTL:P3D
REFRESH-INTERVAL:P3D
CALSCALE:GREGORIAN
BEGIN:VEVENT
DTSTART:20120119T000000Z
DTEND:20120119T020000Z
X-MICROSOFT-CDO-ALLDAYEVENT:FALSE
SUMMARY:Greening Your Business Seminar
DESCRIPTION:Cancelled due to the weather. This event will be rescheduled at some future date yet to be determined.
X-ALT-DESC;FMTTYPE=text/html:<div>\n	<b><span style="color: #ff0000">Cancelled due to the weather</span>. This event will be rescheduled at some future date yet to be determined.</b></div>\n
LOCATION:
UID:e.1345.6
SEQUENCE:3
DTSTAMP:20260423T223341Z
URL:https://members.nanaimochamber.bc.ca/events/details/greening-your-business-seminar-01-18-2012-6
END:VEVENT

END:VCALENDAR
