BEGIN:VCALENDAR
VERSION:2.0
PRODID:-//ChamberMaster//Event Calendar 2.0//EN
METHOD:PUBLISH
X-PUBLISHED-TTL:P3D
REFRESH-INTERVAL:P3D
CALSCALE:GREGORIAN
BEGIN:VEVENT
DTSTART:20140424T150000Z
DTEND:20140424T160000Z
X-MICROSOFT-CDO-ALLDAYEVENT:FALSE
SUMMARY:Government Affairs Committee Meeting
DESCRIPTION:The purpose of the Committee is to identify issues impacting our business community and to accept and evaluate issues identified by others. Where appropriate\, the committee shall establish a position on an issue and an action plan for conveying the position to the appropriate parties.\n\n\n\nThis committee meets in the Chamber of Commerce Boardroom from 8:00-9:00am.
X-ALT-DESC;FMTTYPE=text/html:The purpose of the Committee is to identify issues impacting our business community and to accept and evaluate issues identified by others. Where appropriate\, the committee shall establish a position on an issue and an action plan for conveying the position to the appropriate parties.<br />\n<br />\nThis committee meets in the Chamber of Commerce Boardroom from 8:00-9:00am.
LOCATION:Chamber Office 2133 Bowen Rd.
UID:e.1345.127
SEQUENCE:3
DTSTAMP:20260422T022021Z
URL:https://members.nanaimochamber.bc.ca/events/details/government-affairs-committee-meeting-04-24-2014-127
END:VEVENT

END:VCALENDAR
