BEGIN:VCALENDAR
VERSION:2.0
PRODID:-//ChamberMaster//Event Calendar 2.0//EN
METHOD:PUBLISH
X-PUBLISHED-TTL:P3D
REFRESH-INTERVAL:P3D
CALSCALE:GREGORIAN
BEGIN:VEVENT
DTSTART:20161102T143000Z
DTEND:20161102T160000Z
X-MICROSOFT-CDO-ALLDAYEVENT:FALSE
SUMMARY:Gord Hume Breakfast
DESCRIPTION:Join us for a breakfast with Gord Hume.\n\nGordon Hume\, author\, entrepreneur\, public speaker\, municipal affairs consultant\, and multi-term elected official. \n\n \n\nHis last book "Places & Spaces" states that how municipalities design their public realm strongly influences their economy and culture. His newest release "The Leadership Crisis" talks about local government and how politics is an increasingly very special game. The rules are different. The boundaries are different. The environment in which things go on is quite different. Where does leadership arise from these new rules?
X-ALT-DESC;FMTTYPE=text/html:Join us for a breakfast with Gord Hume.<br />\n<span style="color: rgb(51\, 51\, 51)\; font-family: sans-serif\, Arial\, Verdana\, &quot\;Trebuchet MS&quot\;\; font-size: 11pt\;">Gordon Hume\, author\, entrepreneur\, public speaker\, municipal affairs consultant\, and multi-term elected official.&nbsp\;</span><br style="color: rgb(51\, 51\, 51)\; font-family: sans-serif\, Arial\, Verdana\, &quot\;Trebuchet MS&quot\;\; font-size: 13px\;" />\n<span style="color: rgb(51\, 51\, 51)\; font-family: sans-serif\, Arial\, Verdana\, &quot\;Trebuchet MS&quot\;\; font-size: 13px\; background-color: rgb(255\, 255\, 255)\;">&nbsp\;</span><br style="color: rgb(51\, 51\, 51)\; font-family: sans-serif\, Arial\, Verdana\, &quot\;Trebuchet MS&quot\;\; font-size: 13px\;" />\n<span style="color: rgb(51\, 51\, 51)\; font-family: sans-serif\, Arial\, Verdana\, &quot\;Trebuchet MS&quot\;\; font-size: 11pt\;">His last book &ldquo\;Places &amp\; Spaces&rdquo\; states that&nbsp\;</span><span style="color: rgb(51\, 51\, 51)\; font-family: sans-serif\, Arial\, Verdana\, &quot\;Trebuchet MS&quot\;\; font-size: 13px\; background: white\; border: 1pt none windowtext\; padding: 0cm\;"><span style="color: rgb(30\, 30\, 30)\;"><span style="font-size: 11pt\;">how municipalities design their public realm strongly influences their economy and culture. His newest release &ldquo\;The Leadership Crisis&rdquo\; talks about local government and how&nbsp\;</span></span></span><span style="color: rgb(51\, 51\, 51)\; font-family: sans-serif\, Arial\, Verdana\, &quot\;Trebuchet MS&quot\;\; font-size: 13px\; background: white\;"><span style="color: rgb(30\, 30\, 30)\;"><span style="font-size: 11pt\;">politics is an increasingly very special game. The rules are different. The boundaries are different. The environment in which things go on is quite different. Where does leadership arise from these new rules?</span></span></span><br style="color: rgb(51\, 51\, 51)\; font-family: sans-serif\, Arial\, Verdana\, &quot\;Trebuchet MS&quot\;\; font-size: 13px\;" />\n<span style="color: rgb(51\, 51\, 51)\; font-family: sans-serif\, Arial\, Verdana\, &quot\;Trebuchet MS&quot\;\; font-size: 13px\; background-color: rgb(255\, 255\, 255)\;">&nbsp\;</span><br style="color: rgb(51\, 51\, 51)\; font-family: sans-serif\, Arial\, Verdana\, &quot\;Trebuchet MS&quot\;\; font-size: 13px\;" />\n&nbsp\;
LOCATION:
UID:e.1345.485
SEQUENCE:3
DTSTAMP:20260420T000407Z
URL:https://members.nanaimochamber.bc.ca/events/details/gord-hume-breakfast-485
END:VEVENT

END:VCALENDAR
