BEGIN:VCALENDAR
VERSION:2.0
PRODID:-//ChamberMaster//Event Calendar 2.0//EN
METHOD:PUBLISH
X-PUBLISHED-TTL:P3D
REFRESH-INTERVAL:P3D
CALSCALE:GREGORIAN
BEGIN:VEVENT
DTSTART:20170927T150000Z
DTEND:20170927T163000Z
X-MICROSOFT-CDO-ALLDAYEVENT:FALSE
SUMMARY:Good Morning Mastery: Tap Into Your Networking Power
DESCRIPTION:SOLD OUT - Tap Into Your Networking Power\n\n \nADD YOUR NAME TO THE WAITLIST TODAY!  The Nanaimo Chamber's Professional Development Series continues with this September workshop where you can enhance your skills at tapping into your networking power\, with topics including:\n\n\n	Strategies for Success\n	Networking for Introverts\n	Hugs & Handshakes\n	Reinforcing your Brand \n\nGood Morning Mastery is a professional development series held at the Chamber and designed to broaden and enrich leadership capabilities and business skills. The Chamber brings together expert business panels and speakers to help members increase their capacity and strengthen their skill-set.\n\n\n\nGood Morning Mastery. Never stop learning.
X-ALT-DESC;FMTTYPE=text/html:<span style="font-family:arial\;"><span style="font-size:16px\;"><strong>SOLD OUT - Tap Into Your Networking Power</strong></span></span><br />\n&nbsp\;\n<p style="margin: 0px\;"><span style="font-size:12px\;"><span style="font-family:arial\;"><span style="margin: 0px\;"><font color="#000000">ADD YOUR NAME TO THE WAITLIST TODAY!&nbsp\; The Nanaimo Chamber&#39\;s Professional Development Series continues with this September workshop where you can enhance your skills at tapping into your networking power\, with topics including:</font></span></span></span></p>\n\n<ol start="1" style="margin-top:0in" type="1">\n	<li style="margin: 0px\; color: rgb(0\, 0\, 0)\; font-family: &quot\;Calibri&quot\;\,sans-serif\; font-size: 11pt\; font-style: normal\; font-weight: normal\;"><span style="font-size:12px\;"><span style="margin: 0px\;">Strategies for Success</span></span></li>\n	<li style="margin: 0px\; color: rgb(0\, 0\, 0)\; font-family: &quot\;Calibri&quot\;\,sans-serif\; font-size: 11pt\; font-style: normal\; font-weight: normal\;"><span style="font-size:12px\;"><span style="font-family:arial\;"><span style="margin: 0px\;">Networking for Introverts</span></span></span></li>\n	<li style="margin: 0px\; color: rgb(0\, 0\, 0)\; font-family: &quot\;Calibri&quot\;\,sans-serif\; font-size: 11pt\; font-style: normal\; font-weight: normal\;"><span style="font-size:12px\;"><span style="font-family:arial\;"><span style="margin: 0px\;">Hugs &amp\; Handshakes</span></span></span></li>\n	<li style="margin: 0px\; color: rgb(0\, 0\, 0)\; font-family: &quot\;Calibri&quot\;\,sans-serif\; font-size: 11pt\; font-style: normal\; font-weight: normal\;"><span style="font-family:arial\;"><span style="margin: 0px\; font-size: 11pt\;"><span style="font-size:12px\;">Reinforcing your Brand </span></span></span></li>\n</ol>\n<span style="font-family:arial\;"><span style="font-size:12px\;"><em>Good Morning Mastery is a professional development series held at the Chamber and designed to broaden and enrich leadership capabilities and business skills. The Chamber brings together expert business panels and speakers to help members increase their capacity and strengthen their skill-set.</em></span><br />\n<br />\n<span style="font-size:16px\;"><strong>Good Morning Mastery. Never stop learning.</strong></span></span>
LOCATION:Nanaimo Chamber of Commerce 2133 Bowen Rd Nanaimo BC *free parking in the back
UID:e.1345.1555
SEQUENCE:3
DTSTAMP:20260419T120448Z
URL:https://members.nanaimochamber.bc.ca/events/details/good-morning-mastery-tap-into-your-networking-power-1555
END:VEVENT

END:VCALENDAR
