BEGIN:VCALENDAR
VERSION:2.0
PRODID:-//ChamberMaster//Event Calendar 2.0//EN
METHOD:PUBLISH
X-PUBLISHED-TTL:P3D
REFRESH-INTERVAL:P3D
CALSCALE:GREGORIAN
BEGIN:VEVENT
DTSTART:20160602T183000Z
DTEND:20160603T040000Z
X-MICROSOFT-CDO-ALLDAYEVENT:FALSE
SUMMARY:Golf Tournament - Chamber 22nd Annual
DESCRIPTION:22nd  Annual\n\nGreater Nanaimo Chamber of Commerce\n\nGolf Tournament\n\nThursday\, June 2nd\, 2016\n\nCottonwood Golf Course\n\n\n\n\n\nJoin us for a Hawaiian Themed Golf tourney! We take the good\, the bad and the really bad... so come play with us!\n\n\n\nThis is one of the premier networking events of the year. The Chamber's annual Golf Day kicks off the summer season as more than 100 golfers\, duffers and hackers enjoy a relaxing day on the links with their professional peers.\n\nHeld on Thursday\, June 2nd\, at the Cottonwood Golf Course\, the day features a fun and friendly round of golf with the requisite bragging rights (aka sponsorship opportunities) at many of the holes. The outing is followed by a reception\, BBQ dinner and the chance to win some outstanding prizes and bid on the silent auction. Stay tuned for the announcement of a sports celebrity keynote speaker to go with that dinner.\n\n \n\nBecome a sponsor and hang out at your tee or green\, entertain\, have some fun and promote your business. \n\n\n\nBusiness professionals are quick to point out the networking value of the Chamber golf day. The friendly and casual atmosphere\, coupled with the new acquaintances struck during the event are seen as important value-added\, business-enriching components.
X-ALT-DESC;FMTTYPE=text/html:<strong>2<span style="font-size:13.3333px\;">2nd</span><span style="font-size:13.3333px\;">&nbsp\;</span>&nbsp\;Annual<br />\nGreater Nanaimo Chamber of Commerce</strong><br />\n<strong>Golf Tournament</strong><br />\n<strong>Thursday\, June <span style="font-size:13.3333px\;">2nd</span>\, 2016</strong><br />\n<strong>Cottonwood Golf Course</strong>\n\n<div _mce_style="margin-top: 0px\; margin-bottom: 0px\;" style="margin-top: 0px\; margin-bottom: 0px\;">\n<div>\n<div _mce_style="margin-top: 0px\; margin-bottom: 0px\;" style="margin-top: 0px\; margin-bottom: 0px\;">\n<div _mce_style="display: inline !important\;" style="display: inline !important\;">\n<div><b style="color: rgb(128\, 128\, 128)\; font-family: Arial\, Helvetica\, sans-serif\; font-size: 13.3333px\;"><b _mce_style="font-size: 10pt\;" style="font-size: 10pt\;">Join us for a Hawaiian Themed Golf tourney! We take the good\, the bad and the really bad... so come play with us!</b></b></div>\n\n<div><br />\n<b style="color: rgb(128\, 128\, 128)\; font-family: Arial\, Helvetica\, sans-serif\; font-size: 13.3333px\;"><b _mce_style="font-size: 10pt\;" style="font-size: 10pt\;">This is one of the premier networking events of the year. The Chamber&#39\;s annual Golf Day kicks off the summer season as more than 100 golfers\, duffers and hackers enjoy a relaxing day on the links with their professional peers.</b></b></div>\n\n<div><b style="color: rgb(128\, 128\, 128)\; font-family: Arial\, Helvetica\, sans-serif\; font-size: 13.3333px\;"><b _mce_style="font-size: 10pt\;" style="font-size: 10pt\;">Held on Thursday\, June 2nd\, at the Cottonwood Golf Course\, the day features a fun and friendly round of golf with the requisite bragging rights (aka sponsorship opportunities) at many of the holes. The outing is followed by a reception\, BBQ dinner and the chance to win some outstanding prizes and bid on the silent auction. Stay tuned for the announcement of a sports celebrity keynote speaker to go with that dinner.</b></b></div>\n\n<div><b style="color: rgb(128\, 128\, 128)\; font-family: Arial\, Helvetica\, sans-serif\; font-size: 13.3333px\;"><b _mce_style="font-size: 10pt\;" style="font-size: 10pt\;">&nbsp\;</b></b></div>\n\n<div><b style="color: rgb(128\, 128\, 128)\; font-family: Arial\, Helvetica\, sans-serif\; font-size: 13.3333px\;"><b _mce_style="font-size: 10pt\;" style="font-size: 10pt\;">Become a sponsor and hang out at your tee or green\, entertain\, have some fun and promote your business.&nbsp\;</b></b></div>\n\n<div><br />\n<b style="color: rgb(128\, 128\, 128)\; font-family: Arial\, Helvetica\, sans-serif\; font-size: 13.3333px\;"><b _mce_style="font-size: 10pt\;" style="font-size: 10pt\;">Business professionals are quick to point out the networking value of the Chamber golf day. The friendly and casual atmosphere\, coupled with the new acquaintances struck during the event are seen as important value-added\, business-enriching components.&nbsp\;</b></b></div>\n</div>\n</div>\n</div>\n\n<div>\n<div _mce_style="margin-top: 0px\; margin-bottom: 0px\;" style="margin-top: 0px\; margin-bottom: 0px\;">\n<div _mce_style="display: inline !important\;" style="display: inline !important\;">\n<div _mce_style="margin-top: 0px\; margin-bottom: 0px\;" style="margin-top: 0px\; margin-bottom: 0px\;">\n<div _mce_style="display: inline !important\;" style="display: inline !important\;"><b style="color: rgb(128\, 128\, 128)\; font-family: Arial\, Helvetica\, sans-serif\; font-size: 13.3333px\;"><b _mce_style="font-size: 10pt\;" style="font-size: 10pt\;"><b _mce_style="font-size: 10pt\;" style="font-size: 10pt\;">&nbsp\;</b></b></b></div>\n</div>\n</div>\n</div>\n</div>\n</div>\n\n<div _mce_style="margin-top: 0px\; margin-bottom: 0px\;" style="margin-top: 0px\; margin-bottom: 0px\;">&nbsp\;</div>\n\n<div _mce_style="margin-top: 0px\; margin-bottom: 0px\;" style="margin-top: 0px\; margin-bottom: 0px\;">&nbsp\;</div>\n\n<div _mce_style="margin-top: 0px\; margin-bottom: 0px\;" style="margin-top: 0px\; margin-bottom: 0px\;">&nbsp\;</div>\n\n<div _mce_style="margin-top: 0px\; margin-bottom: 0px\;" style="margin-top: 0px\; margin-bottom: 0px\;">&nbsp\;</div>\n\n<div _mce_style="margin-top: 0px\; margin-bottom: 0px\;" style="margin-top: 0px\; margin-bottom: 0px\;"><span style="font-size:9px\;"><b style="color: rgb(128\, 128\, 128)\; font-family: Arial\, Helvetica\, sans-serif\; font-size: 13.3333px\;">&nbsp\;</b></span></div>\n\n<div _mce_style="margin-top: 0px\; margin-bottom: 0px\;" style="margin-top: 0px\; margin-bottom: 0px\;">&nbsp\;</div>\n<br />\n&nbsp\;
LOCATION:This is a fun filled day of networking and golfing. Cottonwood Golf Club 1975 Haslam Rd
UID:e.1345.456
SEQUENCE:3
DTSTAMP:20260420T100015Z
URL:https://members.nanaimochamber.bc.ca/events/details/golf-tournament-chamber-22nd-annual-06-02-2016-456
END:VEVENT

END:VCALENDAR
