BEGIN:VCALENDAR
VERSION:2.0
PRODID:-//ChamberMaster//Event Calendar 2.0//EN
METHOD:PUBLISH
X-PUBLISHED-TTL:P3D
REFRESH-INTERVAL:P3D
CALSCALE:GREGORIAN
BEGIN:VEVENT
DTSTART;VALUE=DATE:20130213
DTEND;VALUE=DATE:20130214
TRANSP:TRANSPARENT
X-MICROSOFT-CDO-ALLDAYEVENT:TRUE
SUMMARY:February Membership Luncheon
DESCRIPTION:Membership Luncheon\n\n	Time: Buffet lunch begins 11:30am\n\n	Where: Coast Bastion Inn\, 11 Bastion St.\n\n	Speaker: Bill Tam\, BC Tech Industry Association\n\n	Sponsor: Aspengrove School\n\n	Cost: Members: $33.48\; Non Members: $50.00 (+ HST)\n\n	Please Note: Pre-payment and Reservations required. Refunds will be issued with 24 hours notice.\n\n	\n\n	We are pleased to have Bill Tam\, President and CEO of the BC Technology Industry Association (BCTIA) as our Guest Speaker at our February 13th luncheon at the Coast Bastion Inn. The BCTIA is a not-for-profit organization that supports technology companies in BC. Their network of 8\,900 tech companies with over 82\,000 skilled professionals spans across the province. They advocate and promote the success of our tech companies to government\, investors\, and the media\, to raise awareness of BC as a place to start and grow a world-class technology company.\n\n	\n\n	Bill will speak about the opportunities and challenges ahead for this vibrant part of the BC and Vancouver Island economies. The technology industry now employs more British Columbians than the forestry\, mining\, and oil and gas sectors combined. The challenge now is how to harness opportunities to grow BC technology even faster over the next decade\, making our province a tech powerhouse and a leader in the new economy.
X-ALT-DESC;FMTTYPE=text/html:<div>\n	<span style="font-size: 12px"><span style="font-family: arial"><span style="color: #2891d6"><b>Membership Luncheon</b></span><br />\n	<b>Time</b>: Buffet lunch begins 11:30am<br />\n	<b>Where:</b> Coast Bastion Inn\, 11 Bastion St.<br />\n	<b>Speaker:</b> <span style="color: black">Bill Tam\, BC Tech Industry Association<br />\n	<strong>Sponsor:</strong> Aspengrove School</span></span></span></div>\n<div>\n	<span style="font-size: 12px"><span style="font-family: arial"><b>Cost:</b> Members: $33.48\; Non Members: $50.00 (+ HST)<br />\n	<b><i>Please Note: Pre-payment and Reservations required. Refunds will be issued with 24 hours notice.</i></b></span></span><br />\n	<br />\n	We are pleased to have Bill Tam\, President and CEO of the BC Technology Industry Association (BCTIA) as our Guest Speaker at our February 13th luncheon at the Coast Bastion Inn. The BCTIA is a not-for-profit organization that supports technology companies in BC. Their network of 8\,900 tech companies with over 82\,000 skilled professionals spans across the province. They advocate and promote the success of our tech companies to government\, investors\, and the media\, to raise awareness of BC as a place to start and grow a world-class technology company.<br />\n	<br />\n	Bill will speak about the opportunities and challenges ahead for this vibrant part of the BC and Vancouver Island economies. The technology industry now employs more British Columbians than the forestry\, mining\, and oil and gas sectors combined. The challenge now is how to harness opportunities to grow BC technology even faster over the next decade\, making our province a tech powerhouse and a leader in the new economy.<br />\n	&nbsp\;</div>\n
LOCATION:Coast Bastion Inn\, 11 Bastion St.
UID:e.1345.57
SEQUENCE:3
DTSTAMP:20260423T023736Z
URL:https://members.nanaimochamber.bc.ca/events/details/february-membership-luncheon-02-13-2013-57
END:VEVENT

END:VCALENDAR
