BEGIN:VCALENDAR
VERSION:2.0
PRODID:-//ChamberMaster//Event Calendar 2.0//EN
METHOD:PUBLISH
X-PUBLISHED-TTL:P3D
REFRESH-INTERVAL:P3D
CALSCALE:GREGORIAN
BEGIN:VEVENT
DTSTART:20150211T193000Z
DTEND:20150211T213000Z
X-MICROSOFT-CDO-ALLDAYEVENT:FALSE
SUMMARY:February Chamber Luncheon
DESCRIPTION:Membership Luncheon\n\nTime: Buffet lunch begins 11:30am\n\nWhere: Vancouver Island Conference Ctr\, 101 Gordon St.\n\nSpeaker: Dr. Brendan Carr\, President & CEO\, Island Health\n\nSponsor: R.W. (Bob) Wall Ltd.\n\nCost: Members: $34.00 (+GST)\; Non Members: $50.00 (+ GST)\n\nPlease Note: Pre-payment and Reservations required. Refunds will be issued with 48 hours notice.\n\n\n\nCancellation Policy\n\nThe Greater Nanaimo Chamber of Commerce maintains a 48 hour minimum (2 business days) cancellation policy for all Chamber events. Cancellations made with less than 48 hours? notice are not eligible for a refund.  Unpaid registrations will be invoiced. This includes any function for which a charge is made. If you are unable to attend an event for which you have registered\, consider offering your spot to a colleague\, staff member or customer as a gift. There is no additional charge to transfer your registration to someone else. Simply notify the Chamber by calling 250-756-1191.\n\nThank you for your cooperation.
X-ALT-DESC;FMTTYPE=text/html:<div><span style="font-size: 12px"><span style="font-family: arial"><span style="color: #2891d6"><b>Membership Luncheon</b></span><br />\n<b>Time</b>: Buffet lunch begins 11:30am<br />\n<b>Where:</b> Vancouver Island Conference Ctr\, 101 Gordon St.<br />\n<b>Speaker:</b> </span></span>Dr. Brendan Carr\, President &amp\; CEO\, Island Health<br />\n<span style="font-size: 12px"><span style="font-family: arial"><strong>Sponsor:</strong> R.W. (Bob) Wall Ltd.<br />\n<b>Cost:</b> Members: $34.00 (+GST)\; Non Members: $50.00 (+ GST)<br />\n<b><i>Please Note: Pre-payment and Reservations required. Refunds will be issued with 48 hours notice.</i></b></span></span><br />\n<br />\n<span style="color:#000000\;"><strong>Cancellation Policy</strong><br />\nThe Greater Nanaimo Chamber of Commerce maintains a 48 hour minimum (2 business days) cancellation policy for all Chamber events. Cancellations made with less than 48 hours? notice are not eligible for a refund.&nbsp\; Unpaid registrations will be invoiced. This includes any function for which a charge is made. If you are unable to attend an event for which you have registered\, consider offering your spot to a colleague\, staff member or customer as a gift. There is no additional charge to transfer your registration to someone else. Simply notify the Chamber by calling 250-756-1191.<br />\nThank you for your cooperation.</span></div>\n
LOCATION:Vancouver Island Conference Ctr 101 Gordon St.
UID:e.1345.186
SEQUENCE:3
DTSTAMP:20260421T094358Z
URL:https://members.nanaimochamber.bc.ca/events/details/february-chamber-luncheon-02-11-2015-186
END:VEVENT

END:VCALENDAR
