BEGIN:VCALENDAR
VERSION:2.0
PRODID:-//ChamberMaster//Event Calendar 2.0//EN
METHOD:PUBLISH
X-PUBLISHED-TTL:P3D
REFRESH-INTERVAL:P3D
CALSCALE:GREGORIAN
BEGIN:VEVENT
DTSTART:20120208T193000Z
DTEND:20120208T213000Z
X-MICROSOFT-CDO-ALLDAYEVENT:FALSE
SUMMARY:February Chamber Luncheon
DESCRIPTION:Membership Luncheon\n\n	Time: Buffet lunch begins 11:30am\n\n	Where: Coast Bastion Inn\, 11 Bastion St.\n\n	Speaker: Tom MacDonald\, Executive Director\, Local Government Management Association\n\n	Sponsor: Nanaimo Child Development Centre\n\n	Cost: Members: $31.25\; Non Members: $45.00 (+ HST)\n\n	Please Note: Pre-payment and Reservations required. Refunds will be issued with 24 hours notice.
X-ALT-DESC;FMTTYPE=text/html:<div>\n	<span style="font-size: 12px"><span style="font-family: arial"><span style="color: #2891d6"><b>Membership Luncheon</b></span><br />\n	<b>Time</b>: Buffet lunch begins 11:30am<br />\n	<b>Where:</b> Coast Bastion Inn\, 11 Bastion St.<br />\n	<b>Speaker:</b> <span style="color: black">Tom MacDonald\, Executive Director\, Local Government Management Association</span></span></span></div>\n<div>\n	<span style="font-size: 12px"><span style="font-family: arial"><b>Sponsor:</b> <span style="color: black">Nanaimo Child Development Centre</span></span></span></div>\n<div>\n	<span style="font-size: 12px"><span style="font-family: arial"><b>Cost:</b> Members: $31.25\; Non Members: $45.00 (+ HST)<br />\n	<b><i>Please Note: Pre-payment and Reservations required. Refunds will be issued with 24 hours notice.</i></b></span></span></div>\n
LOCATION:Coast Bastion Inn\, 11 Bastion St.
UID:e.1345.10
SEQUENCE:3
DTSTAMP:20260423T221636Z
URL:https://members.nanaimochamber.bc.ca/events/details/february-chamber-luncheon-02-08-2012-10
END:VEVENT

END:VCALENDAR
