BEGIN:VCALENDAR
VERSION:2.0
PRODID:-//ChamberMaster//Event Calendar 2.0//EN
METHOD:PUBLISH
X-PUBLISHED-TTL:P3D
REFRESH-INTERVAL:P3D
CALSCALE:GREGORIAN
BEGIN:VEVENT
DTSTART:20130220T153000Z
DTEND:20130220T163000Z
X-MICROSOFT-CDO-ALLDAYEVENT:FALSE
SUMMARY:February Business before Business
DESCRIPTION:West Coast Daily Deals would like to invite you to join us at the Greater Nanaimo Chamber of Commerce office for the February Business before business.\n\n\n\nWe are a locally owned and operated advertising and marketing company whose primary focus is to work within our community developing and growing sustainable business partnerships.  We leverage social media and email marketing to increase your businesses visibility and success\; we feel that our business partner's success is our first priority.\n\n\n\nWe look forward to an exceptional morning of networking\, delicious treats with Gluten Free Options Available supplied by some Nanaimo local businesses as well as some amazing prizes from our business partners.\n\n\n\n\n	Host: West Coast Daily Deals\,\n\n	Where: 2133 Bowen Rd. (Chamber office)\n\n	\n\n	Extra parking is alongside Fern Road in the residential area.
X-ALT-DESC;FMTTYPE=text/html:West Coast Daily Deals would like to invite you to join us at the Greater Nanaimo Chamber of Commerce office for the February Business before business.<br />\n<br />\nWe are a locally owned and operated advertising and marketing company whose primary focus is to work within our community developing and growing sustainable business partnerships.&nbsp\; We leverage social media and email marketing to increase your businesses visibility and success\; we feel that our business partner&rsquo\;s success is our first priority.<br />\n<br />\nWe look forward to an exceptional morning of networking\, delicious treats with Gluten Free Options Available supplied by some Nanaimo local businesses as well as some amazing prizes from our business partners.<br />\n<br />\n<div>\n	<span style="font-size: 12px"><span style="font-family: arial"><span style="color: black"><strong>Host:</strong> West Coast Daily Deals\,<br />\n	<strong>Where: </strong>2133 Bowen Rd. (Chamber office)</span></span></span><br />\n	<br />\n	<span style="font-size:12px\;"><span style="color: black\;"><span style="font-family: calibri\,sans-serif\;"><span style="font-family: arial\;">Extra parking is&nbsp\;alongside Fern Road in the residential</span> <span style="font-family:arial\;">area.</span></span></span></span><br />\n	<br />\n	&nbsp\;</div>\n
LOCATION:2133 Bowen Rd. (Chamber office)
UID:e.1345.58
SEQUENCE:3
DTSTAMP:20260423T023848Z
URL:https://members.nanaimochamber.bc.ca/events/details/february-business-before-business-02-20-2013-58
END:VEVENT

END:VCALENDAR
