BEGIN:VCALENDAR
VERSION:2.0
PRODID:-//ChamberMaster//Event Calendar 2.0//EN
METHOD:PUBLISH
X-PUBLISHED-TTL:P3D
REFRESH-INTERVAL:P3D
CALSCALE:GREGORIAN
BEGIN:VEVENT
DTSTART:20140219T153000Z
DTEND:20140219T163000Z
X-MICROSOFT-CDO-ALLDAYEVENT:FALSE
SUMMARY:February Business before Business
DESCRIPTION:Morning Networking event\, no cost to attend. Bring lots of business cards and network with your fellow Chamber members and business professionals.\n\n\n\n\n	Where: Pure Chiropractic\, 1-5144 Metral Dr.
X-ALT-DESC;FMTTYPE=text/html:<span style="font-size: 12px"><span style="font-family: arial">Morning Networking event\, no cost to attend. Bring lots of business cards and network with your fellow Chamber members and business professionals.</span></span><br />\n<br />\n<div>\n	<span style="font-size: 12px"><span style="font-family: arial"><span style="color: black"><strong>Where:</strong> Pure Chiropractic\, 1-5144 Metral Dr.</span></span></span></div>\n
LOCATION:Pure Chiropractic 1-5144 Metral Dr.
UID:e.1345.147
SEQUENCE:3
DTSTAMP:20260422T072748Z
URL:https://members.nanaimochamber.bc.ca/events/details/february-business-before-business-02-19-2014-147
END:VEVENT

END:VCALENDAR
