BEGIN:VCALENDAR
VERSION:2.0
PRODID:-//ChamberMaster//Event Calendar 2.0//EN
METHOD:PUBLISH
X-PUBLISHED-TTL:P3D
REFRESH-INTERVAL:P3D
CALSCALE:GREGORIAN
BEGIN:VEVENT
DTSTART:20150218T153000Z
DTEND:20150218T163000Z
X-MICROSOFT-CDO-ALLDAYEVENT:FALSE
SUMMARY:February Business before Business
DESCRIPTION:Morning Networking event\, no cost to attend. Bring lots of business cards and network with your fellow Chamber members and business professionals.\n\n \nWhere: Dog n' Suds\, 2209 Wilgress Rd.
X-ALT-DESC;FMTTYPE=text/html:<span style="font-size: 12px"><span style="font-family: arial">Morning Networking event\, no cost to attend. Bring lots of business cards and network with your fellow Chamber members and business professionals.</span></span><br />\n&nbsp\;\n<div><span style="font-size: 12px"><span style="font-family: arial"><span style="color: black"><strong>Where:</strong> Dog n&#39\; Suds\, 2209 Wilgress Rd.</span></span></span></div>\n
LOCATION:Dog n' Suds 2209 Wilgress Rd.
UID:e.1345.189
SEQUENCE:3
DTSTAMP:20260421T094405Z
URL:https://members.nanaimochamber.bc.ca/events/details/february-business-before-business-02-18-2015-189
END:VEVENT

END:VCALENDAR
