BEGIN:VCALENDAR
VERSION:2.0
PRODID:-//ChamberMaster//Event Calendar 2.0//EN
METHOD:PUBLISH
X-PUBLISHED-TTL:P3D
REFRESH-INTERVAL:P3D
CALSCALE:GREGORIAN
BEGIN:VEVENT
DTSTART:20130301T010000Z
DTEND:20130301T030000Z
X-MICROSOFT-CDO-ALLDAYEVENT:FALSE
SUMMARY:February Business after Business
DESCRIPTION:After work networking event\, no cost to attend. Bring lots of business cards and network with your fellow Chamber members and business professionals.\n\n\n\nWhere: Mosaic Information Technologies\, 41 Nicol St.\n\n\n\nView poster
X-ALT-DESC;FMTTYPE=text/html:<span style="font-size: 12px"><span style="font-family: arial">After work networking event\, no cost to attend. Bring lots of business cards and network with your fellow Chamber members and business professionals.<br />\n<br />\n<span style="font-size: 12px"><span style="font-family: arial"><span style="color: black"><strong>Where:</strong> Mosaic Information Technologies\, 41 Nicol St.<a href="http://cloud.chambermaster.com/userfiles/UserFiles/chambers/1345/File/ChamberInvitation.pdf"><br />\n<br />\nView poster</a></span></span></span></span></span>
LOCATION:Mosaic Information Technologies 41 Nicol St.
UID:e.1345.59
SEQUENCE:3
DTSTAMP:20260423T023853Z
URL:https://members.nanaimochamber.bc.ca/events/details/february-business-after-business-02-28-2013-59
END:VEVENT

END:VCALENDAR
