BEGIN:VCALENDAR
VERSION:2.0
PRODID:-//ChamberMaster//Event Calendar 2.0//EN
METHOD:PUBLISH
X-PUBLISHED-TTL:P3D
REFRESH-INTERVAL:P3D
CALSCALE:GREGORIAN
BEGIN:VEVENT
DTSTART:20150227T010000Z
DTEND:20150227T030000Z
X-MICROSOFT-CDO-ALLDAYEVENT:FALSE
SUMMARY:February Business after Business
DESCRIPTION:After work networking event\, no cost to attend. Bring lots of business cards and network with your fellow Chamber members and business professionals.\n\n\n\nWhere: Eric Kuehnel\, Raymond James\, B-6451 Applecross Rd.
X-ALT-DESC;FMTTYPE=text/html:<span style="font-size: 12px"><span style="font-family: arial">After work networking event\, no cost to attend. Bring lots of business cards and network with your fellow Chamber members and business professionals.<br />\n<br />\n<span style="font-size: 12px"><span style="font-family: arial"><span style="color: black"><strong>Where:</strong> Eric Kuehnel\, Raymond James\, B-6451 Applecross Rd.</span></span></span></span></span>
LOCATION:Eric Kuehnel\, Raymond James B-6451 Applecross Rd.
UID:e.1345.190
SEQUENCE:3
DTSTAMP:20260421T094527Z
URL:https://members.nanaimochamber.bc.ca/events/details/february-business-after-business-02-26-2015-190
END:VEVENT

END:VCALENDAR
