BEGIN:VCALENDAR
VERSION:2.0
PRODID:-//ChamberMaster//Event Calendar 2.0//EN
METHOD:PUBLISH
X-PUBLISHED-TTL:P3D
REFRESH-INTERVAL:P3D
CALSCALE:GREGORIAN
BEGIN:VEVENT
DTSTART:20120224T010000Z
DTEND:20120224T030000Z
X-MICROSOFT-CDO-ALLDAYEVENT:FALSE
SUMMARY:February Business after Business
DESCRIPTION:After work networking event\, no cost to attend. Bring lots of business cards and network with your fellow Chamber members and business professionals.\n\n\n\nWhere: Herbal Magic\, 1-6332 Metral Dr. (Metral Station Shopping Centre)
X-ALT-DESC;FMTTYPE=text/html:<span style="font-size: 12px"><span style="font-family: arial">After work networking event\, no cost to attend. Bring lots of business cards and network with your fellow Chamber members and business professionals.<br />\n<br />\n<span style="font-size: 12px"><span style="font-family: arial"><span style="color: black"><strong>Where:</strong> Herbal Magic\, 1-6332 Metral Dr. (Metral Station Shopping Centre)</span></span></span></span></span>
LOCATION:Herbal Magic\, 1-6332 Metral Dr. (Metral Station Shopping Centre)
UID:e.1345.12
SEQUENCE:3
DTSTAMP:20260423T205430Z
URL:https://members.nanaimochamber.bc.ca/events/details/february-business-after-business-02-23-2012-12
END:VEVENT

END:VCALENDAR
