BEGIN:VCALENDAR
VERSION:2.0
PRODID:-//ChamberMaster//Event Calendar 2.0//EN
METHOD:PUBLISH
X-PUBLISHED-TTL:P3D
REFRESH-INTERVAL:P3D
CALSCALE:GREGORIAN
BEGIN:VEVENT
DTSTART:20150926T170000Z
DTEND:20150926T230000Z
X-MICROSOFT-CDO-ALLDAYEVENT:FALSE
SUMMARY:Feastival
DESCRIPTION:SATURDAY\, SEPTEMBER 26TH\n\nVancouver Island Conference Centre\n\n10 am   4 pm\n\n\n\n"FEASTIVAL"\, a new and exiting showcase of the local food and beverage scene featuring some of the finest locally-sourced products\, ingredients\, talent and attractions on the mid-Island.\n\n\n\nMeet the folks who make and grow your favourite food and drink\, all in one place\, at one amazing event. From fields to farms to fisheries\, FEASTIVAL is the mid-island's premiere food to fork event.\n\n\n\nClick here to purchase your tickets!
X-ALT-DESC;FMTTYPE=text/html:SATURDAY\, SEPTEMBER 26TH<br />\nVancouver Island Conference Centre<br />\n10 am &ndash\; 4 pm<br />\n<br />\n&ldquo\;FEASTIVAL&rdquo\;\, a new and exiting showcase of the local food and beverage scene featuring some of the finest locally-sourced products\, ingredients\, talent and attractions on the mid-Island.<br />\n<br />\nMeet the folks who make and grow your favourite food and drink\, all in one place\, at one amazing event. From fields to farms to fisheries\, FEASTIVAL is the mid-island&rsquo\;s premiere food to fork event.<br />\n<br />\n<a href="https://feastivalnanaimo.eventbrite.ca/">Click here to purchase your tickets!</a>
LOCATION:Vancouver Island Conference Centre
UID:e.1345.227
SEQUENCE:3
DTSTAMP:20260420T221659Z
URL:https://members.nanaimochamber.bc.ca/events/details/feastival-09-26-2015-227
END:VEVENT

END:VCALENDAR
