BEGIN:VCALENDAR
VERSION:2.0
PRODID:-//ChamberMaster//Event Calendar 2.0//EN
METHOD:PUBLISH
X-PUBLISHED-TTL:P3D
REFRESH-INTERVAL:P3D
CALSCALE:GREGORIAN
BEGIN:VEVENT
DTSTART:20170119T160000Z
DTEND:20170119T170000Z
X-MICROSOFT-CDO-ALLDAYEVENT:FALSE
SUMMARY:Executive Meeting
DESCRIPTION:Executive Meeting
X-ALT-DESC;FMTTYPE=text/html:Executive Meeting<br />\n&nbsp\;
LOCATION:Nanaimo Chamber of Commerce 2133 Bowen Road Nanaimo BC
UID:e.1345.289
SEQUENCE:3
DTSTAMP:20260419T205219Z
URL:https://members.nanaimochamber.bc.ca/events/details/executive-meeting-01-19-2017-289
END:VEVENT

END:VCALENDAR
