BEGIN:VCALENDAR
VERSION:2.0
PRODID:-//ChamberMaster//Event Calendar 2.0//EN
METHOD:PUBLISH
X-PUBLISHED-TTL:P3D
REFRESH-INTERVAL:P3D
CALSCALE:GREGORIAN
BEGIN:VEVENT
DTSTART:20141031T000000Z
DTEND:20141031T030000Z
X-MICROSOFT-CDO-ALLDAYEVENT:FALSE
SUMMARY:Evening with Minister Yamamoto
DESCRIPTION:The Greater Nanaimo Chamber of Commerce is pleased to invite you to a wrap up event for Small Business Month with Naomi Yamamoto\, Minister of State for Tourism and Small Business. Hosted by Steve Laird at Laird Wheaton GM\, 2590 Bowen Road\, on Thursday\, October 30th from 5:00   8:00 pm.\n\n \n\nThis free informal stand-up event is perfect for those involved in local small business activities or the tourism industry. Minister Yamamoto will be available to field some questions related to small business\, the tourism industry or the BC government.\n\n \n\nHer background as a business owner and her solid connections within the Chamber network as the President and General Manager of the North Vancouver Chamber of Commerce\, as well as\, Chair of the BC Chamber of Commerce in 1997 have served her well as the Champion of Small Business.\n\n \n\nNaomi is in town to help celebrate Small Business month with the Nanaimo business community.
X-ALT-DESC;FMTTYPE=text/html:The Greater Nanaimo Chamber of Commerce is pleased to invite you to a wrap up event for Small Business Month with Naomi Yamamoto\, Minister of State for Tourism and Small Business. Hosted by Steve Laird at Laird Wheaton GM\, 2590 Bowen Road\, on Thursday\, October 30th from 5:00 &ndash\; 8:00 pm.<br />\n&nbsp\;<br />\nThis free informal stand-up event is perfect for those involved in local small business activities or the tourism industry. Minister Yamamoto will be available to field some questions related to small business\, the tourism industry or the BC government.<br />\n&nbsp\;<br />\nHer background as a business owner and her solid connections within the Chamber network as the President and General Manager of the North Vancouver Chamber of Commerce\, as well as\, Chair of the BC Chamber of Commerce in 1997 have served her well as the Champion of Small Business.<br />\n&nbsp\;<br />\nNaomi is in town to help celebrate Small Business month with the Nanaimo business community.<br />\n<br />\n&nbsp\;
LOCATION:Laird Wheaton GM\, 2590 Bowen Road
UID:e.1345.174
SEQUENCE:3
DTSTAMP:20260421T160734Z
URL:https://members.nanaimochamber.bc.ca/events/details/evening-with-minister-yamamoto-10-30-2014-174
END:VEVENT

END:VCALENDAR
