BEGIN:VCALENDAR
VERSION:2.0
PRODID:-//ChamberMaster//Event Calendar 2.0//EN
METHOD:PUBLISH
X-PUBLISHED-TTL:P3D
REFRESH-INTERVAL:P3D
CALSCALE:GREGORIAN
BEGIN:VEVENT
DTSTART:20121017T200000Z
DTEND:20121017T213000Z
X-MICROSOFT-CDO-ALLDAYEVENT:FALSE
SUMMARY:Doing Business with the Government of Canada
DESCRIPTION:Facilitator: Sarah Allin \n\n \n\nAre you interested in learning the fundamentals of doing business with the Government of Canada?\n\n \n\nThis seminar provides information on how the government does its buying\, how to register to sell to the government\, how to keep track of opportunities\, how to market to the federal government\, and how to bid on opportunities.\n\n \n\nAfter this seminar you will understand how the federal government does their purchasing\, the role of the Office of Small and Medium Enterprises and have all the essentials to get started in the bidding process.\n\n \n\nCan't make the seminar? Detailed information available on their website www.buyandsell.gc.ca
X-ALT-DESC;FMTTYPE=text/html:<strong><span style="font-family:calibri\,sans-serif\;"><span style="font-size:11.0pt\;">Facilitator: </span></span></strong><strong><span style="font-family:calibri\,sans-serif\;"><span style="font-size:11.0pt\;">Sarah Allin </span></span></strong><br />\n&nbsp\;<br />\n<span style="font-family:calibri\,sans-serif\;"><span style="font-size:11.0pt\;">Are you interested in learning the fundamentals of doing business with the Government of Canada?</span></span><br />\n&nbsp\;<br />\n<span style="font-family:calibri\,sans-serif\;"><span style="font-size:11.0pt\;">This seminar provides information on how the government does its buying\, how to register to sell to the government\, how to keep track of opportunities\, how to market to the federal government\, and how to bid on opportunities.</span></span><br />\n&nbsp\;<br />\n<span style="font-family:calibri\,sans-serif\;"><span style="font-size:11.0pt\;">After this seminar you will understand how the federal government does their purchasing\, the role of the Office of Small and Medium Enterprises and have all the essentials to get started in the bidding process.</span></span><br />\n&nbsp\;<br />\n<span style="font-family:calibri\,sans-serif\;"><span style="font-size:11.0pt\;">Can&rsquo\;t make the seminar? Detailed information available on their website </span></span><a href="http://www.buyandsell.gc.ca/"><span style="font-family:calibri\,sans-serif\;"><span style="font-size:11.0pt\;">www.buyandsell.gc.ca</span></span></a>
LOCATION:Chamber of Commerce Boardroom
UID:e.1345.49
SEQUENCE:3
DTSTAMP:20260423T090414Z
URL:https://members.nanaimochamber.bc.ca/events/details/doing-business-with-the-government-of-canada-10-17-2012-49
END:VEVENT

END:VCALENDAR
