BEGIN:VCALENDAR
VERSION:2.0
PRODID:-//ChamberMaster//Event Calendar 2.0//EN
METHOD:PUBLISH
X-PUBLISHED-TTL:P3D
REFRESH-INTERVAL:P3D
CALSCALE:GREGORIAN
BEGIN:VEVENT
DTSTART:20121212T191500Z
DTEND:20121212T213000Z
X-MICROSOFT-CDO-ALLDAYEVENT:FALSE
SUMMARY:December Membership Luncheon
DESCRIPTION:Christmas Luncheon\n\n	Time: Buffet lunch begins 11:15am\n\n	Where: Vancouver Island Conference Ctr\n\n	Cost: Members: $50.00 (+ HST)\; Non-Members: $60.00 (+ HST)\n\n	Please Note: Pre-payment and Reservations required. Refunds will be issued with 24 hours notice.
X-ALT-DESC;FMTTYPE=text/html:<div style="color: gray">\n	<span style="font-size: 12px"><span style="font-family: arial"><span style="color: #2891d6"><b>Christmas Luncheon</b></span></span></span><br />\n	<strong>Time: </strong>Buffet lunch begins 11:15am<br />\n	<strong>Where: </strong>Vancouver Island Conference Ctr<br />\n	<strong>Cost:&nbsp\;</strong>Members:<strong>&nbsp\;</strong>$50.00 (+ HST)\; Non-Members: $60.00&nbsp\;(+ HST)<br />\n	<em><strong>Please Note: Pre-payment and Reservations required. Refunds will be issued with 24 hours notice.</strong></em></div>\n
LOCATION:Vancouver Island Conference Ctr. 101 Gordon St.
UID:e.1345.33
SEQUENCE:3
DTSTAMP:20260423T054410Z
URL:https://members.nanaimochamber.bc.ca/events/details/december-membership-luncheon-12-12-2012-33
END:VEVENT

END:VCALENDAR
