BEGIN:VCALENDAR
VERSION:2.0
PRODID:-//ChamberMaster//Event Calendar 2.0//EN
METHOD:PUBLISH
X-PUBLISHED-TTL:P3D
REFRESH-INTERVAL:P3D
CALSCALE:GREGORIAN
BEGIN:VEVENT
DTSTART;VALUE=DATE:20151209
DTEND;VALUE=DATE:20151210
TRANSP:TRANSPARENT
X-MICROSOFT-CDO-ALLDAYEVENT:TRUE
SUMMARY:December Membership Luncheon
DESCRIPTION:Christmas Luncheon\n\nTime: Lunch begins 11:00am\n\nWhere: Vancouver Island Conference Centre\, 101 Gordon St.\n\nCost: Members: TBA\n\n\n\nPlease Note: Pre-payment and Reservations required. Refunds will be issued with 72 hours notice.\n\n\n\n\n\nCancellation Policy\n\nThe Greater Nanaimo Chamber of Commerce maintains a 72 hour minimum (3 business days) cancellation policy for all Chamber events. Cancellations made with less than 72 hours' notice are not eligible for a refund.  Unpaid registrations will be invoiced. This includes any function for which a charge is made. If you are unable to attend an event for which you have registered\, consider offering your spot to a colleague\, staff member or customer as a gift. There is no additional charge to transfer your registration to someone else. Simply notify the Chamber by calling 250-756-1191.\n\n\n\nThank you for your cooperation.
X-ALT-DESC;FMTTYPE=text/html:<div style="color: gray"><span style="font-size: 12px"><span style="font-family: arial"><span style="color: #2891d6"><b>Christmas Luncheon</b></span></span></span><br />\n<span style="color:#000000\;"><strong>Time: </strong>Lunch begins 11:00am<br />\n<strong>Where: </strong>Vancouver Island Conference Centre\, 101 Gordon St.<br />\n<strong>Cost:</strong> Members: TBA<br />\n<br />\n<em><strong>Please Note: Pre-payment and Reservations required. Refunds will be issued with 72 hours notice.</strong></em></span><br />\n<br />\n<br />\n<span style="color:#000000\;"><strong>Cancellation Policy</strong><br />\nThe Greater Nanaimo Chamber of Commerce maintains a 72 hour minimum (3 business days) cancellation policy for all Chamber events. Cancellations made with less than 72 hours&rsquo\; notice are not eligible for a refund.&nbsp\; Unpaid registrations will be invoiced. This includes any function for which a charge is made. If you are unable to attend an event for which you have registered\, consider offering your spot to a colleague\, staff member or customer as a gift. There is no additional charge to transfer your registration to someone else. Simply notify the Chamber by calling 250-756-1191.<br />\n<br />\nThank you for your cooperation.</span><br />\n&nbsp\;</div>\n
LOCATION:Vancouver Island Conference Centre 101 Gordon St.
UID:e.1345.218
SEQUENCE:3
DTSTAMP:20260420T174726Z
URL:https://members.nanaimochamber.bc.ca/events/details/december-membership-luncheon-12-09-2015-218
END:VEVENT

END:VCALENDAR
