BEGIN:VCALENDAR
VERSION:2.0
PRODID:-//ChamberMaster//Event Calendar 2.0//EN
METHOD:PUBLISH
X-PUBLISHED-TTL:P3D
REFRESH-INTERVAL:P3D
CALSCALE:GREGORIAN
BEGIN:VEVENT
DTSTART:20170623T150000Z
DTEND:20170623T163000Z
X-MICROSOFT-CDO-ALLDAYEVENT:FALSE
SUMMARY:Cybersecurity Workshop - SOLD OUT
DESCRIPTION:Good Morning Mastery\n\n \n\nCYBERSECURITY: What you need to know to protect your business\n\n \n\nHow safe is your business from a cyber attack? The recent WannaCry ransomware attack served as the latest wake-up call about the very real potential for a cyber threat to disrupt the daily operations of your business. Almost every business\, no matter what size\, is vulnerable and being prepared for potential cyber security breaches is critical.\n\n \n\nThe Nanaimo Chamber's professional development series continues with a look at this growing threat!\n\n \n\nJoin co-presenters Ron Borsholm and Peter Guo from MNP's Cyber Security team to explore:\n\n	the most common types of cyber attacks\n	how to assess your risks and vulnerabilities\n	the most important steps you can take to protect your organization\n	what to do you if you experience a cyber attack\n\n \n\nGood Morning Mastery. Never stop learning.
X-ALT-DESC;FMTTYPE=text/html:<strong><span style="font-size:12pt\;">Good Morning Mastery</span></strong><br />\n&nbsp\;<br />\n<strong>CYBERSECURITY: What you need to know to protect your business</strong><br />\n&nbsp\;<br />\nHow safe is your business from a cyber attack? The recent WannaCry ransomware attack served as the latest wake-up call about the very real potential for a cyber threat to disrupt the daily operations of your business. Almost every business\, no matter what size\, is vulnerable and being prepared for potential cyber security breaches is critical.<br />\n&nbsp\;<br />\n<span style="font-size:12pt\;">The Nanaimo Chamber&rsquo\;s professional development series continues with a look at this growing threat!</span><br />\n&nbsp\;<br />\nJoin co-presenters Ron Borsholm and Peter Guo from MNP&rsquo\;s Cyber Security team to explore:\n<ul>\n	<li>the most common types of cyber attacks</li>\n	<li>how to assess your risks and vulnerabilities</li>\n	<li>the most important steps you can take to protect your organization</li>\n	<li>what to do you if you experience a cyber attack</li>\n</ul>\n&nbsp\;<br />\n<strong><span style="font-size:12pt\;">Good Morning Mastery. Never stop learning.</span></strong><br />\n&nbsp\;
LOCATION:The Board Room Upstairs Chamber offices 2133 Bowen Rd Nanaimo BC *free parking in the back
UID:e.1345.547
SEQUENCE:3
DTSTAMP:20260419T130626Z
URL:https://members.nanaimochamber.bc.ca/events/details/cybersecurity-workshop-sold-out-547
END:VEVENT

END:VCALENDAR
