BEGIN:VCALENDAR
VERSION:2.0
PRODID:-//ChamberMaster//Event Calendar 2.0//EN
METHOD:PUBLISH
X-PUBLISHED-TTL:P3D
REFRESH-INTERVAL:P3D
CALSCALE:GREGORIAN
BEGIN:VEVENT
DTSTART:20111214T193000Z
DTEND:20111214T213000Z
X-MICROSOFT-CDO-ALLDAYEVENT:FALSE
SUMMARY:CHRISTMAS LUNCHEON & AUCTION
DESCRIPTION:You won't want to miss one of the premiere Holiday events for Nanaimo's Business Community. The annual Chamber Luncheon and Auction is a major fundraiser for the Chamber and a fun-filled event. There will be a Live and Silent Auction\, entertainment by an ensemble from the Vancouver Island Symphony\, good food and even better company.\n\n \n\nWe are seeking donations of Auction items\, any and all donations are greatly appreciated\; use the form below to forward your donation. Please provide a copy of your logo or a digital photo of your donation so that we can properly acknowledge your donation in our promotional material.\n\n\n\nAuction donation form\n\n \n\nTicket order form
X-ALT-DESC;FMTTYPE=text/html:<span style="font-size: 12px"><span style="font-family: arial">You won&rsquo\;t want to miss one of the premiere Holiday events for Nanaimo&rsquo\;s Business Community. The annual Chamber Luncheon and Auction is a major fundraiser for the Chamber and a fun-filled event. There will be a Live and Silent Auction\, entertainment by an ensemble from the Vancouver Island Symphony\, good food and even better company.<br />\n&nbsp\;<br />\nWe are seeking donations of Auction items\, any and all donations are greatly appreciated\; use the form below to forward your donation. Please provide a copy of your logo or a digital photo of your donation so that we can properly acknowledge your donation in our promotional material.<br />\n<br />\n<a href="http://cloud.chambermaster.com/userfiles/UserFiles/chambers/1345/File/Xmasdonationrequest.pdf">Auction donation form</a><br />\n&nbsp\;<br />\n<a href="http://cloud.chambermaster.com/userfiles/UserFiles/chambers/1345/File/Xmasdonationrequest.pdf">Ticket order form&nbsp\;</a></span></span>
LOCATION:Vancouver Island Conference Centre 101 Gordon St. Nanaimo\, BC
UID:e.1345.2
SEQUENCE:3
DTSTAMP:20260423T234739Z
URL:https://members.nanaimochamber.bc.ca/events/details/christmas-luncheon-auction-12-14-2011-2
END:VEVENT

END:VCALENDAR
