BEGIN:VCALENDAR
VERSION:2.0
PRODID:-//ChamberMaster//Event Calendar 2.0//EN
METHOD:PUBLISH
X-PUBLISHED-TTL:P3D
REFRESH-INTERVAL:P3D
CALSCALE:GREGORIAN
BEGIN:VEVENT
DTSTART:20161207T190000Z
DTEND:20161207T213000Z
X-MICROSOFT-CDO-ALLDAYEVENT:FALSE
SUMMARY:Christmas Luncheon and Auction
DESCRIPTION:Registration for this event is now closed but we can still take your order if you call Nella McKimm at 250-756-1191 ext 4.
X-ALT-DESC;FMTTYPE=text/html:<p style="box-sizing: border-box\; margin: 0.85em 0px\; padding: 0px\; border: 0px rgb(225\, 225\, 225)\; font-variant-numeric: inherit\; font-stretch: inherit\; font-size: 13px\; line-height: inherit\; font-family: Arial\, Helvetica\, Verdana\, sans-serif\; vertical-align: baseline\; color: rgb(102\, 102\, 102)\; background-color: rgb(248\, 248\, 248)\;">Registration for this event is now closed but we can still take your order if you call Nella McKimm at 250-756-1191 ext 4.&nbsp\;</p>\n
LOCATION:Vancouver Island Conference Centre 101 Gordon Street Nanaimo\, BC
UID:e.1345.445
SEQUENCE:3
DTSTAMP:20260419T223005Z
URL:https://members.nanaimochamber.bc.ca/events/details/christmas-luncheon-and-auction-12-07-2016-445
END:VEVENT

END:VCALENDAR
