BEGIN:VCALENDAR
VERSION:2.0
PRODID:-//ChamberMaster//Event Calendar 2.0//EN
METHOD:PUBLISH
X-PUBLISHED-TTL:P3D
REFRESH-INTERVAL:P3D
CALSCALE:GREGORIAN
BEGIN:VEVENT
DTSTART:20140920T183000Z
DTEND:20140920T223000Z
X-MICROSOFT-CDO-ALLDAYEVENT:FALSE
SUMMARY:Chowder Competition
DESCRIPTION:When:     Saturday\, September 20\, 2014\n\nWhere:     Lucky's Liquor Store\, Country Club Centre Mall - 3296 Island Highway North\n\nTime:     11:30am - 3:30pm\n\nCost:     Ask about how you and your restaurant can get involved\n\nGeneral Public $12 - includes 12 Tasting Tickets
X-ALT-DESC;FMTTYPE=text/html:When: &nbsp\;&nbsp\; &nbsp\;Saturday\, September 20\, 2014<br />\nWhere: &nbsp\;&nbsp\; &nbsp\;Lucky&#39\;s Liquor Store\, Country Club Centre Mall - 3296 Island Highway North<br />\nTime: &nbsp\;&nbsp\; &nbsp\;11:30am - 3:30pm<br />\nCost: &nbsp\;&nbsp\; &nbsp\;Ask about how you and your restaurant can get involved<br />\nGeneral Public $12 - includes 12 Tasting Tickets
LOCATION:Lucky's Liquor Store Country Club Ctr\, 3296 Island Hwy N.
UID:e.1345.163
SEQUENCE:3
DTSTAMP:20260421T174256Z
URL:https://members.nanaimochamber.bc.ca/events/details/chowder-competition-09-20-2014-163
END:VEVENT

END:VCALENDAR
