BEGIN:VCALENDAR
VERSION:2.0
PRODID:-//ChamberMaster//Event Calendar 2.0//EN
METHOD:PUBLISH
X-PUBLISHED-TTL:P3D
REFRESH-INTERVAL:P3D
CALSCALE:GREGORIAN
BEGIN:VEVENT
DTSTART:20170601T203000Z
DTEND:20170602T040000Z
X-MICROSOFT-CDO-ALLDAYEVENT:FALSE
SUMMARY:Chamber Golf: Members’ Open 2017
DESCRIPTION:Nanaimo Chamber Members' Open\n\nGuests and future-members welcome\n\n$150 per golfer (green fees\, power cart\, buffet dinner)\n\nRegister as a team or individual\n\nDinner only $40\n\n\n\nSPONSORSHIP OPPORTUNITIES\n\nCONTACT BRETT WATTS\n\nbrett@nanaimochamber.bc.ca\n\n250-756-1191 EXT 5
X-ALT-DESC;FMTTYPE=text/html:<strong>Nanaimo Chamber Members&#39\; Open<br />\nGuests and future-members welcome<br />\n$150 per golfer (green fees\, power cart\, buffet dinner)<br />\nRegister as a team or individual<br />\nDinner only $40<br />\n<br />\nSPONSORSHIP OPPORTUNITIES<br />\nCONTACT BRETT WATTS</strong><br />\n<strong style="color: rgb(51\, 51\, 51)\; font-family: sans-serif\, Arial\, Verdana\, &quot\;Trebuchet MS&quot\;\; font-size: 13px\;"><a href="mailto:brett@nanaimochamber.bc.ca?subject=Golf%20spnsorships" style="color: rgb(7\, 130\, 193)\;">brett@nanaimochamber.bc.ca</a></strong><br />\n<strong>250-756-1191 EXT 5</strong><br />\n&nbsp\;
LOCATION:Cottonwood Golf Course
UID:e.1345.535
SEQUENCE:3
DTSTAMP:20260419T130715Z
URL:https://members.nanaimochamber.bc.ca/events/details/chamber-golf-members-open-2017-535
END:VEVENT

END:VCALENDAR
