BEGIN:VCALENDAR
VERSION:2.0
PRODID:-//ChamberMaster//Event Calendar 2.0//EN
METHOD:PUBLISH
X-PUBLISHED-TTL:P3D
REFRESH-INTERVAL:P3D
CALSCALE:GREGORIAN
BEGIN:VEVENT
DTSTART:20121018T200000Z
DTEND:20121019T010000Z
X-MICROSOFT-CDO-ALLDAYEVENT:FALSE
SUMMARY:Chamber Business Expo
DESCRIPTION:5th Annual Chamber Business Expo at Beban Park Auditorium.\n\n\n\nThe Business Expo is the Chamber's annual trade show and networking event designed to give Chamber members affordable access to the business community.\n\n\n\nAdmission is FREE!
X-ALT-DESC;FMTTYPE=text/html:5th Annual Chamber Business Expo at Beban Park Auditorium.<br />\n<br />\nThe Business Expo is the Chamber&#39\;s annual trade show and networking event designed to give Chamber members affordable access to the business community.<br />\n<br />\nAdmission is FREE!<br />\n<br />\n
LOCATION:Beban Park Auditorium 2300 Bowen Road
UID:e.1345.41
SEQUENCE:3
DTSTAMP:20260423T090110Z
URL:https://members.nanaimochamber.bc.ca/events/details/chamber-business-expo-10-18-2012-41
END:VEVENT

END:VCALENDAR
