BEGIN:VCALENDAR
VERSION:2.0
PRODID:-//ChamberMaster//Event Calendar 2.0//EN
METHOD:PUBLISH
X-PUBLISHED-TTL:P3D
REFRESH-INTERVAL:P3D
CALSCALE:GREGORIAN
BEGIN:VEVENT
DTSTART:20120606T200000Z
DTEND:20120607T000000Z
X-MICROSOFT-CDO-ALLDAYEVENT:FALSE
SUMMARY:Chamber Annual Golf Tournament
DESCRIPTION:Cottonwood Golf Course\n\nJune 6\, 2012
X-ALT-DESC;FMTTYPE=text/html:Cottonwood Golf Course<br />\nJune&nbsp\;6\, 2012<br />\n<br />\n
LOCATION:Cottonwood Golf Course
UID:e.1345.27
SEQUENCE:3
DTSTAMP:20260423T150658Z
URL:https://members.nanaimochamber.bc.ca/events/details/chamber-annual-golf-tournament-06-06-2012-27
END:VEVENT

END:VCALENDAR
