BEGIN:VCALENDAR
VERSION:2.0
PRODID:-//ChamberMaster//Event Calendar 2.0//EN
METHOD:PUBLISH
X-PUBLISHED-TTL:P3D
REFRESH-INTERVAL:P3D
CALSCALE:GREGORIAN
BEGIN:VEVENT
DTSTART:20150604T190000Z
DTEND:20150605T020000Z
X-MICROSOFT-CDO-ALLDAYEVENT:FALSE
SUMMARY:Chamber Annual Golf Tournament
DESCRIPTION:21st Annual Greater Nanaimo Chamber of Commerce\n\nGolf Tournament\n\nThursday\, June 4th\, 2015\n\nCottonwood Golf Course\n\nRegistration       12 pm\n\nShot gun start    1:30 pm\n\nDinner                7 pm\n\n\n\nRegistration deadline Friday May 29th\, 2015\n\nTicket pp $150 +GST\n\n\n\nRegistration form or register online here
X-ALT-DESC;FMTTYPE=text/html:21st Annual Greater Nanaimo Chamber of Commerce<br />\nGolf Tournament<br />\nThursday\, June 4th\, 2015<br />\nCottonwood Golf Course<br />\nRegistration&nbsp\;&nbsp\;&nbsp\;&nbsp\;&nbsp\;&nbsp\; 12 pm<br />\nShot gun start&nbsp\;&nbsp\;&nbsp\; 1:30 pm<br />\nDinner&nbsp\;&nbsp\;&nbsp\;&nbsp\;&nbsp\;&nbsp\;&nbsp\;&nbsp\;&nbsp\;&nbsp\;&nbsp\;&nbsp\;&nbsp\;&nbsp\;&nbsp\; 7 pm<br />\n<br />\nRegistration deadline Friday May 29th\, 2015<br />\nTicket pp $150 +GST<br />\n<br />\n<a href="http://cloud.chambermaster.com/userfiles/UserFiles/chambers/1345/File/2015Golfregistration.pdf">Registration form</a> or register <a href="http://events.r20.constantcontact.com/register/event?oeidk=a07eas8woux6daa4bec&amp\;llr=y8ecugdab">online here</a>
LOCATION:Cottonwood Golf Course
UID:e.1345.204
SEQUENCE:3
DTSTAMP:20260421T030941Z
URL:https://members.nanaimochamber.bc.ca/events/details/chamber-annual-golf-tournament-06-04-2015-204
END:VEVENT

END:VCALENDAR
