BEGIN:VCALENDAR
VERSION:2.0
PRODID:-//ChamberMaster//Event Calendar 2.0//EN
METHOD:PUBLISH
X-PUBLISHED-TTL:P3D
REFRESH-INTERVAL:P3D
CALSCALE:GREGORIAN
BEGIN:VEVENT
DTSTART:20140928T000000Z
DTEND:20140928T043000Z
X-MICROSOFT-CDO-ALLDAYEVENT:FALSE
SUMMARY:Chamber 125th Anniversary Celebration
DESCRIPTION:When:     Saturday\, September 27\, 2014\n\nWhere:    Cruise Ship Terminal\n\nTime:      5:00pm-9:30pm\n\nCost:      $99 (+GST) \n\n\n\nYou're only 125 once!\n\n\n\nHelp us celebrate the occasion with visionary social entrepreneur and Canadian Olympic Hall of Famer - Adam Kreek.\n\nAppies\, Dockside Cocktails\, Networking\, Live Music with Dave Hart\, 3 course dinner by Chefs Daniel & Tammy of downtown Nanaimo's 2 Chefs Affair\, Fire dancers\, safe ride home...
X-ALT-DESC;FMTTYPE=text/html:When: &nbsp\;&nbsp\; &nbsp\;Saturday\, September 27\, 2014<br />\nWhere: &nbsp\;&nbsp\; Cruise Ship Terminal<br />\nTime: &nbsp\; &nbsp\;&nbsp\; 5:00pm-9:30pm<br />\nCost: &nbsp\; &nbsp\;&nbsp\; $99 (+GST)&nbsp\;<br />\n<br />\nYou&#39\;re only 125 once!<br />\n<br />\nHelp us celebrate the occasion with visionary social entrepreneur and Canadian Olympic Hall of Famer - <a href="http://www.kreekspeak.com"><strong>Adam Kreek</strong></a>.<br />\nAppies\, Dockside Cocktails\, Networking\, Live Music with Dave Hart\, 3 course dinner by Chefs Daniel &amp\; Tammy of downtown Nanaimo&#39\;s 2 Chefs Affair\, Fire dancers\, safe ride home...
LOCATION:Nanaimo Port Authority Cruise Ship Terminal
UID:e.1345.164
SEQUENCE:3
DTSTAMP:20260421T174744Z
URL:https://members.nanaimochamber.bc.ca/events/details/chamber-125th-anniversary-celebration-09-27-2014-164
END:VEVENT

END:VCALENDAR
