BEGIN:VCALENDAR
VERSION:2.0
PRODID:-//ChamberMaster//Event Calendar 2.0//EN
METHOD:PUBLISH
X-PUBLISHED-TTL:P3D
REFRESH-INTERVAL:P3D
CALSCALE:GREGORIAN
BEGIN:VEVENT
DTSTART:20170301T010000Z
DTEND:20170301T040000Z
X-MICROSOFT-CDO-ALLDAYEVENT:FALSE
SUMMARY:CANCELLED - UnPrepared - Emergency Business Plan
DESCRIPTION:Free Workshop\n\nGet Set Nanaimo\n\nEmergencies big or small can make or break your business.\n\n\n\nUnderstand the key components of a business emergency plan\n\nLearn how to build employee readiness\n\nGather tips on securing data and disaster-proofing your business\n\n\n\nThese are just some of the questions that will be explored during this 3 hour interactive FREE workshop designed for business.\n\n\n\nJoin us along with leading experts who will share their experiences including:\n\n\n\nAlison Bird\, Seismologist - Natural Resource Canada\n\nAaron Sutherland - Insurance Bureau of Canada\n\nLisa Benini and Jenn Houtby-Ferguson - Business Continuity Specialists
X-ALT-DESC;FMTTYPE=text/html:Free Workshop<br />\nGet Set Nanaimo<br />\nEmergencies&nbsp\;big or small can make or break your business.<br />\n<br />\nUnderstand the key components of a business emergency plan<br />\nLearn how to build employee readiness<br />\nGather tips on securing data and disaster-proofing your business<br />\n<br />\nThese are just some of the questions that will be explored during this 3 hour interactive FREE workshop designed for business.<br />\n<br />\nJoin us along with leading experts who will share their experiences including:<br />\n<br />\nAlison Bird\, Seismologist - Natural Resource Canada<br />\nAaron Sutherland - Insurance Bureau of Canada<br />\nLisa Benini and Jenn&nbsp\;Houtby-Ferguson - Business Continuity Specialists<br />\n<br />\n&nbsp\;
LOCATION:
UID:e.1345.539
SEQUENCE:3
DTSTAMP:20260419T192039Z
URL:https://members.nanaimochamber.bc.ca/events/details/cancelled-unprepared-emergency-business-plan-02-28-2017-539
END:VEVENT

END:VCALENDAR
