BEGIN:VCALENDAR
VERSION:2.0
PRODID:-//ChamberMaster//Event Calendar 2.0//EN
METHOD:PUBLISH
X-PUBLISHED-TTL:P3D
REFRESH-INTERVAL:P3D
CALSCALE:GREGORIAN
BEGIN:VEVENT
DTSTART:20170628T010000Z
DTEND:20170628T040000Z
X-MICROSOFT-CDO-ALLDAYEVENT:FALSE
SUMMARY:By Election Candidates Debate
DESCRIPTION:Nominations to run in the July 8 Nanaimo City Council by-election closed at 4:00 pm on Friday\, June 2. The following have been declared by the Chief Election Officer as eligible candidates:\n\nArmstrong\, Sheryl Dawn\n\nBrunie\, Brunie\n\nBurton\, Sacia\n\nCake\, Leon\n\nCantelon\, Kevin\n\nMercier\, Jim\n\nRoutley\, Noah\n\nSaunders\, Neil\n\nStatham\, Fred\n\nStorrie\, Kevin Bruce\n\nTaylor Middleton\, Alexis\n\nThompson\, Al\n\nWhiteside\, Kelly\n\nFor additional information and questions\, please email vote@nanaimo.ca.\n\nStrategic Link: Taking responsibility to be an excellent municipal government.\n\n\nKey Points\n\n\n	Voting day for the by-election will be held on Saturday\, July 8 with advanced polls on Wednesday\, June 28 and Wednesday\, July 5.\n	More information\, including educational videos on the by-election\, can be found on the City's website at www.nanaimo.ca/goto/2017By-Election.\n\n\n\n\nQuotes\n\n\n\n\n"With the nomination period now closed\, I can declare 13 candidates will be running for the vacant seat in the by-election. Residents are encouraged to visit the City's website to find out if they are registered to vote."
X-ALT-DESC;FMTTYPE=text/html:<p style="margin: 0px 0px 1.4em\; padding: 0px\; border: 0px\; outline: 0px\; font-size: 12.16px\; vertical-align: baseline\; background-image: initial\; background-position: initial\; background-size: initial\; background-repeat: initial\; background-attachment: initial\; background-origin: initial\; background-clip: initial\; line-height: 1.8\;">Nominations to run in the July 8 Nanaimo City Council by-election closed at 4:00 pm on Friday\, June 2. The following have been declared by the Chief Election Officer as eligible candidates:</p>\n\n<p style="margin: 0px 0px 1.4em\; padding: 0px\; border: 0px\; outline: 0px\; font-size: 12.16px\; vertical-align: baseline\; background-image: initial\; background-position: initial\; background-size: initial\; background-repeat: initial\; background-attachment: initial\; background-origin: initial\; background-clip: initial\; line-height: 1.8\;">Armstrong\, Sheryl Dawn</p>\n\n<p style="margin: 0px 0px 1.4em\; padding: 0px\; border: 0px\; outline: 0px\; font-size: 12.16px\; vertical-align: baseline\; background-image: initial\; background-position: initial\; background-size: initial\; background-repeat: initial\; background-attachment: initial\; background-origin: initial\; background-clip: initial\; line-height: 1.8\;">Brunie\, Brunie</p>\n\n<p style="margin: 0px 0px 1.4em\; padding: 0px\; border: 0px\; outline: 0px\; font-size: 12.16px\; vertical-align: baseline\; background-image: initial\; background-position: initial\; background-size: initial\; background-repeat: initial\; background-attachment: initial\; background-origin: initial\; background-clip: initial\; line-height: 1.8\;">Burton\, Sacia</p>\n\n<p style="margin: 0px 0px 1.4em\; padding: 0px\; border: 0px\; outline: 0px\; font-size: 12.16px\; vertical-align: baseline\; background-image: initial\; background-position: initial\; background-size: initial\; background-repeat: initial\; background-attachment: initial\; background-origin: initial\; background-clip: initial\; line-height: 1.8\;">Cake\, Leon</p>\n\n<p style="margin: 0px 0px 1.4em\; padding: 0px\; border: 0px\; outline: 0px\; font-size: 12.16px\; vertical-align: baseline\; background-image: initial\; background-position: initial\; background-size: initial\; background-repeat: initial\; background-attachment: initial\; background-origin: initial\; background-clip: initial\; line-height: 1.8\;">Cantelon\, Kevin</p>\n\n<p style="margin: 0px 0px 1.4em\; padding: 0px\; border: 0px\; outline: 0px\; font-size: 12.16px\; vertical-align: baseline\; background-image: initial\; background-position: initial\; background-size: initial\; background-repeat: initial\; background-attachment: initial\; background-origin: initial\; background-clip: initial\; line-height: 1.8\;">Mercier\, Jim</p>\n\n<p style="margin: 0px 0px 1.4em\; padding: 0px\; border: 0px\; outline: 0px\; font-size: 12.16px\; vertical-align: baseline\; background-image: initial\; background-position: initial\; background-size: initial\; background-repeat: initial\; background-attachment: initial\; background-origin: initial\; background-clip: initial\; line-height: 1.8\;">Routley\, Noah</p>\n\n<p style="margin: 0px 0px 1.4em\; padding: 0px\; border: 0px\; outline: 0px\; font-size: 12.16px\; vertical-align: baseline\; background-image: initial\; background-position: initial\; background-size: initial\; background-repeat: initial\; background-attachment: initial\; background-origin: initial\; background-clip: initial\; line-height: 1.8\;">Saunders\, Neil</p>\n\n<p style="margin: 0px 0px 1.4em\; padding: 0px\; border: 0px\; outline: 0px\; font-size: 12.16px\; vertical-align: baseline\; background-image: initial\; background-position: initial\; background-size: initial\; background-repeat: initial\; background-attachment: initial\; background-origin: initial\; background-clip: initial\; line-height: 1.8\;">Statham\, Fred</p>\n\n<p style="margin: 0px 0px 1.4em\; padding: 0px\; border: 0px\; outline: 0px\; font-size: 12.16px\; vertical-align: baseline\; background-image: initial\; background-position: initial\; background-size: initial\; background-repeat: initial\; background-attachment: initial\; background-origin: initial\; background-clip: initial\; line-height: 1.8\;">Storrie\, Kevin Bruce</p>\n\n<p style="margin: 0px 0px 1.4em\; padding: 0px\; border: 0px\; outline: 0px\; font-size: 12.16px\; vertical-align: baseline\; background-image: initial\; background-position: initial\; background-size: initial\; background-repeat: initial\; background-attachment: initial\; background-origin: initial\; background-clip: initial\; line-height: 1.8\;">Taylor Middleton\, Alexis</p>\n\n<p style="margin: 0px 0px 1.4em\; padding: 0px\; border: 0px\; outline: 0px\; font-size: 12.16px\; vertical-align: baseline\; background-image: initial\; background-position: initial\; background-size: initial\; background-repeat: initial\; background-attachment: initial\; background-origin: initial\; background-clip: initial\; line-height: 1.8\;">Thompson\, Al</p>\n\n<p style="margin: 0px 0px 1.4em\; padding: 0px\; border: 0px\; outline: 0px\; font-size: 12.16px\; vertical-align: baseline\; background-image: initial\; background-position: initial\; background-size: initial\; background-repeat: initial\; background-attachment: initial\; background-origin: initial\; background-clip: initial\; line-height: 1.8\;">Whiteside\, Kelly</p>\n\n<p style="margin: 0px 0px 1.4em\; padding: 0px\; border: 0px\; outline: 0px\; font-size: 12.16px\; vertical-align: baseline\; background-image: initial\; background-position: initial\; background-size: initial\; background-repeat: initial\; background-attachment: initial\; background-origin: initial\; background-clip: initial\; line-height: 1.8\;">For additional information and questions\, please email vote@nanaimo.ca.</p>\n\n<p style="margin: 0px 0px 1.4em\; padding: 0px\; border: 0px\; outline: 0px\; font-size: 12.16px\; vertical-align: baseline\; background-image: initial\; background-position: initial\; background-size: initial\; background-repeat: initial\; background-attachment: initial\; background-origin: initial\; background-clip: initial\; line-height: 1.8\;"><em style="margin: 0px\; padding: 0px\; border: 0px\; outline: 0px\; font-size: 12.16px\; vertical-align: baseline\; background-image: initial\; background-position: initial\; background-size: initial\; background-repeat: initial\; background-attachment: initial\; background-origin: initial\; background-clip: initial\;">Strategic Link:</em>&nbsp\;Taking responsibility to be an excellent municipal government.</p>\n\n<div id="KeyPoints" style="margin: 0px\; padding: 0px\; border: 0px\; outline: 0px\; font-size: 12.16px\; vertical-align: baseline\; background-image: initial\; background-position: initial\; background-size: initial\; background-repeat: initial\; background-attachment: initial\; background-origin: initial\; background-clip: initial\;">\n<h3 style="margin: 2em 0px 0.5em\; padding: 0px\; border: 0px\; outline: 0px\; font-size: 1.3em\; vertical-align: baseline\; background-image: initial\; background-position: initial\; background-size: initial\; background-repeat: initial\; background-attachment: initial\; background-origin: initial\; background-clip: initial\; font-family: &quot\;Trebuchet MS&quot\;\, &quot\;Lucida Grande&quot\;\, &quot\;Lucida Sans Unicode&quot\;\, Arial\, Verdana\, sans-serif\; color: rgb(40\, 40\, 40)\; line-height: 1.2\;">Key Points</h3>\n\n<ul style="margin-top: 1.6em\; margin-bottom: 1.6em\;">\n	<li class="bulletlist" style="margin-left: -2em\; line-height: 1.5\; margin-bottom: 0.3em\;">Voting day for the by-election will be held on Saturday\, July 8 with advanced polls on Wednesday\, June 28 and Wednesday\, July 5.</li>\n	<li class="bulletlist" style="margin-left: -2em\; line-height: 1.5\; margin-bottom: 0.3em\;">More information\, including educational videos on the by-election\, can be found on the City&#39\;s website at www.nanaimo.ca/goto/2017By-Election.</li>\n</ul>\n</div>\n\n<div id="quotes" style="margin: 0px\; padding: 0px\; border: 0px\; outline: 0px\; font-size: 12.16px\; vertical-align: baseline\; background-image: initial\; background-position: initial\; background-size: initial\; background-repeat: initial\; background-attachment: initial\; background-origin: initial\; background-clip: initial\;">\n<h3 style="margin: 2em 0px 0.5em\; padding: 0px\; border: 0px\; outline: 0px\; font-size: 1.3em\; vertical-align: baseline\; background-image: initial\; background-position: initial\; background-size: initial\; background-repeat: initial\; background-attachment: initial\; background-origin: initial\; background-clip: initial\; font-family: &quot\;Trebuchet MS&quot\;\, &quot\;Lucida Grande&quot\;\, &quot\;Lucida Sans Unicode&quot\;\, Arial\, Verdana\, sans-serif\; color: rgb(40\, 40\, 40)\; line-height: 1.2\;">Quotes</h3>\n\n<figure class="quote" style="margin: 0px\; text-align: right\;">\n<div class="preview_quote_text_noimg" style="margin: 0px\; padding: 0px\; border: 0px\; outline: 0px\; font-size: 12.16px\; vertical-align: baseline\; background-image: initial\; background-position: initial\; background-size: initial\; background-repeat: initial\; background-attachment: initial\; background-origin: initial\; background-clip: initial\;">\n<blockquote style="quotes: none\; margin: 0px\; color: rgb(40\, 40\, 40)\; font-family: Verdana\, Arial\, Helvetica\, sans-serif\; font-size: 12.16px\; background-color: rgb(255\, 255\, 255)\;">\n<p style="margin: 0px 0px 1.4em\; padding: 0px\; border: 0px\; outline: 0px\; font-size: 12.16px\; vertical-align: baseline\; background: transparent\; line-height: 1.8\;">&quot\;With the nomination period now closed\, I can declare 13 candidates will be running for the vacant seat in the by-election. Residents are encouraged to visit the City&#39\;s website to find out if they are registered to vote.&quot\;</p>\n\n<div>&nbsp\;</div>\n</blockquote>\n</div>\n\n<figcaption style="color: rgb(40\, 40\, 40)\; font-family: Verdana\, Arial\, Helvetica\, sans-serif\; font-size: 12.16px\; background-color: rgb(255\, 255\, 255)\;">&nbsp\;</figcaption>\n</figure>\n</div>\n
LOCATION:Beban Park Social Centre
UID:e.1345.548
SEQUENCE:3
DTSTAMP:20260419T131152Z
URL:https://members.nanaimochamber.bc.ca/events/details/by-election-candidates-debate-548
END:VEVENT

END:VCALENDAR
