BEGIN:VCALENDAR
VERSION:2.0
PRODID:-//ChamberMaster//Event Calendar 2.0//EN
METHOD:PUBLISH
X-PUBLISHED-TTL:P3D
REFRESH-INTERVAL:P3D
CALSCALE:GREGORIAN
BEGIN:VEVENT
DTSTART;VALUE=DATE:20171005
DTEND;VALUE=DATE:20171006
TRANSP:TRANSPARENT
X-MICROSOFT-CDO-ALLDAYEVENT:TRUE
SUMMARY:Business Expo Panel Discussions
DESCRIPTION:Selling to Government\n\n11 am\n\nInterested in selling to the public sector? This panel brings together purchasing specialists from different levels of government who will help you understand the processes around government contracting at all levels in order to prepare your business to start bidding.\n\nLiz Busch\,  Strategic Business and Procurement Transformation\n\nKathy Large\, Supply Team Lead - Public Services and Procurement Canada\n\nGary Gray\, Manager of Procurement\, Vancouver Island University\n\n\n\n\n\n\n\nAccess to Financing\n\n2 pm \n\nLooking for sources of capital? Want us to show you the money? Come meet the experts who will provide you with information on various financing programs and resources available to your business. Learn the ins and outs of how to get money from financiers.\n\n\n\nMina Haghighi\, Business Development Manager - Futurpreneur\n\nJolynn Green\, Executive Director - Community Futures Central Island\n\nStephen Ison\, Principal - Liquid Capital Corporation\n\nAdam Fraser\, Commercial Business Development - Coastal Community Credit Union
X-ALT-DESC;FMTTYPE=text/html:<strong><span style="font-family:calibri\,sans-serif\;"><span style="font-size:10.0pt\;">Selling to Government</span></span></strong><br />\n<strong><span style="font-family:calibri\,sans-serif\;"><span style="font-size:10.0pt\;">11 am</span></span></strong><br />\n<span style="font-family:calibri\,sans-serif\;"><span style="font-size:10.0pt\;">Interested in selling to the public sector? This panel brings together purchasing specialists from different levels of government who will help you understand the processes around government contracting at all levels in order to&nbsp\;prepare your business to start bidding.</span></span><br />\n<span style="font-family:calibri\,sans-serif\;"><span style="font-size:11.0pt\;">Liz Busch\, &nbsp\;Strategic Business and Procurement Transformation</span></span><br />\n<span style="font-family:calibri\,sans-serif\;"><span style="font-size:11.0pt\;">Kathy Large\, Supply Team Lead - Public Services and Procurement Canada</span></span><br />\n<span style="font-family:calibri\,sans-serif\;"><span style="font-size:11.0pt\;">Gary Gray\, Manager of Procurement\, Vancouver Island University</span></span><br />\n<br />\n<br />\n<br />\n<strong><span style="font-family:calibri\,sans-serif\;"><span style="font-size:10.0pt\;">Access to Financing</span></span></strong><br />\n<strong><span style="font-family:calibri\,sans-serif\;"><span style="font-size:10.0pt\;">2 pm </span></span></strong><br />\n<span style="font-family:calibri\,sans-serif\;"><span style="font-size:10.0pt\;">Looking for sources of capital? Want us to show you the money? Come meet the experts who will provide you with information on various financing programs and resources available to your business. Learn the ins and outs of how to get money from financiers.</span></span><br />\n<br />\n<span style="font-family:calibri\,sans-serif\;"><span style="font-size:11.0pt\;">Mina Haghighi\, Business Development Manager - Futurpreneur</span></span><br />\n<span style="font-family:calibri\,sans-serif\;"><span style="font-size:11.0pt\;">Jolynn Green\, Executive Director - Community Futures Central Island</span></span><br />\n<span style="font-family:calibri\,sans-serif\;"><span style="font-size:11.0pt\;">Stephen Ison\, Principal - Liquid Capital Corporation</span></span><br />\n<span style="font-family:calibri\,sans-serif\;"><span style="font-size:11.0pt\;">Adam Fraser\, Commercial Business Development - Coastal Community Credit Union</span></span><br />\n&nbsp\;<br />\n&nbsp\;
LOCATION:Business Expo Vancouver Island Conference Centre Departure Bay Room A 11 am and 2 pm
UID:e.1345.1671
SEQUENCE:3
DTSTAMP:20260421T082844Z
URL:https://members.nanaimochamber.bc.ca/events/details/business-expo-panel-discussions-1671
END:VEVENT

END:VCALENDAR
